{"text_format":"5","workbook":"xlsx","n_sheets":3,"sheets":["원가계산서","공종별집계표","공종별내역서"],"props":{"creator":"PC","last_modified_by":"ksei"},"not_rendered":{"defined_names":5},"read":"whole","date_system":"1900"}

{"sheet":"원가계산서","index":0,"n_rows":29,"n_cols":7,"rows_kept":29,"merged":[[0,1,0,6],[1,1,1,4],[1,5,1,6],[2,1,2,3],[3,1,20,1],[3,2,6,2],[7,2,9,2],[10,2,20,2],[21,1,21,3],[22,1,22,3],[23,1,23,3],[24,1,24,3],[25,1,25,3],[26,1,26,3],[27,1,27,3],[28,1,28,3]]}
[null,"공 사 원 가 계 산 서"]
[null,"공사명 : 한국주택금융공사 전북지사 인테리어공사"]
[null,"비        목",null,null,"금      액","구        성        비","비      고"]
["A1","순   공   사   원   가","재   료   비","직  접  재  료  비",{"$f":"TRUNC(공종별집계표!F5, 0)","v":0}]
["A2",null,null,"간  접  재  료  비",0]
["A3",null,null,"작업설, 부산물(△)",0]
["AS",null,null,"[ 소          계 ]",{"$f":"TRUNC(E4+E5-E6, 0)","v":0}]
["B1",null,"노   무   비","직  접  노  무  비",{"$f":"TRUNC(공종별집계표!H5, 0)","v":0}]
["B2",null,null,"간  접  노  무  비",{"$f":"TRUNC(E8*0.125, 0)","v":0},"직접노무비 * 12.5%"]
["BS",null,null,"[ 소          계 ]",{"$f":"TRUNC(E8+E9, 0)","v":0}]
["C2",null,"경        비","경              비",{"$f":"TRUNC(공종별집계표!J5, 0)","v":0}]
["C4",null,null,"산  재  보  험  료",{"$f":"TRUNC(E10*0.037, 0)","v":0},"노무비 * 3.7%"]
["C5",null,null,"고  용  보  험  료",{"$f":"TRUNC(E10*0.0101, 0)","v":0},"노무비 * 1.01%"]
["C6",null,null,"국민  건강  보험료",{"$f":"TRUNC(E8*0.03495, 0)","v":0},"직접노무비 * 3.495%"]
["C7",null,null,"국민  연금  보험료",{"$f":"TRUNC(E8*0.045, 0)","v":0},"직접노무비 * 4.5%"]
["C8",null,null,"퇴직  공제  부금비",{"$f":"TRUNC(E8*0.023, 0)","v":0},"직접노무비 * 2.3%"]
["CA",null,null,"산업안전보건관리비",{"$f":"TRUNC((E7+E8)*0.0293, 0)","v":0},"(재료비+직노) * 2.93%"]
["CB",null,null,"노인장기요양보험료",{"$f":"TRUNC(E14*0.1227, 0)","v":0},"건강보험료 * 12.27%"]
["CH",null,null,"환  경  보  전  비",{"$f":"TRUNC((E7+E8+E11)*0.003, 0)","v":0},"(재료비+직노+경비) * 0.3%"]
["CG",null,null,"기   타    경   비",{"$f":"TRUNC((E7+E10)*0.078, 0)","v":0},"(재료비+노무비) * 7.8%"]
["CS",null,null,"[ 소          계 ]",{"$f":"TRUNC(E11+E12+E13+E14+E15+E16+E17+E18+E20+E19, 0)","v":0}]
["S1","        계",null,null,{"$f":"TRUNC(E7+E10+E21, 0)","v":0}]
["D1","일  반  관  리  비",null,null,{"$f":"TRUNC(E22*0.06, 0)","v":0},"계 * 6%"]
["D2","이              윤",null,null,{"$f":"TRUNC((E10+E21+E23)*0.15, 0)","v":0},"(노무비+경비+일반관리비) * 15%"]
["D4","건설폐기물처리비",null,null,{"$f":"TRUNC(공종별집계표!T56, 0)","v":0}]
["D9","공   급    가   액",null,null,{"$f":"TRUNC(INT((E22+E23+E24+E25)/10000)*10000, 0)","v":0}]
["DB","부  가  가  치  세",null,null,{"$f":"TRUNC(E26*0.1, 0)","v":0},"공급가액 * 10%"]
["DH","도      급      액",null,null,{"$f":"TRUNC(E26+E27, 0)","v":0}]
["S2","총   공   사    비",null,null,{"$f":"TRUNC(E28+0, 0)","v":0}]

{"sheet":"공종별집계표","index":1,"n_rows":70,"n_cols":20,"rows_kept":70,"merged":[[0,0,0,12],[1,0,1,12],[2,0,3,0],[2,1,3,1],[2,2,3,2],[2,3,3,3],[2,4,2,5],[2,6,2,7],[2,8,2,9],[2,10,2,11],[2,12,3,12],[2,13,3,13],[2,14,3,14],[2,15,3,15],[2,16,3,16],[2,17,3,17],[2,18,3,18],[2,19,3,19]]}
["공 종 별 집 계 표"]
["[ 한국주택금융공사 전북지사 인테리어공사 ]"]
["품      명","규      격","단위","수량","재  료  비",null,"노  무  비",null,"경      비",null,"합      계",null,"비  고","공종코드","변수","상위공종","공종구분","공종레벨","공종소계","원가계산서 연결금액"]
[{"$nulls":4},"단  가","금  액","단  가","금  액","단  가","금  액","단  가","금  액"]
["01  한국주택금융공사 전북지사 인테리어공사",null,null,1,{"$f":"F6+F57","v":0},{"$f":"E5*D5","v":0},{"$f":"H6+H57","v":0},{"$f":"G5*D5","v":0},{"$f":"J6+J57","v":0},{"$f":"I5*D5","v":0},{"$f":"E5+G5+I5","v":0},{"$f":"F5+H5+J5","v":0},null,"01",{"$nulls":3},1]
["0101  ■건축공사",null,null,1,{"$f":"F7+F8+F9+F10+F11+F12+F13+F14+F15+F16+F17+F18+F19+F20+F21+F22+F23+F24+F25+F26+F27+F28+F29+F30+F31+F32+F33+F34+F35+F36+F37+F38+F39+F40+F41+F42+F43+F44+F45+F46+F47+F48+F49+F50+F51+F52+F53+F54+F55","v":0},0,{"$f":"H7+H8+H9+H10+H11+H12+H13+H14+H15+H16+H17+H18+H19+H20+H21+H22+H23+H24+H25+H26+H27+H28+H29+H30+H31+H32+H33+H34+H35+H36+H37+H38+H39+H40+H41+H42+H43+H44+H45+H46+H47+H48+H49+H50+H51+H52+H53+H54+H55","v":0},0,{"$f":"J7+J8+J9+J10+J11+J12+J13+J14+J15+J16+J17+J18+J19+J20+J21+J22+J23+J24+J25+J26+J27+J28+J29+J30+J31+J32+J33+J34+J35+J36+J37+J38+J39+J40+J41+J42+J43+J44+J45+J46+J47+J48+J49+J50+J51+J52+J53+J54+J55","v":0},0,0,0,null,"0101",null,"01",null,2]
["010101  가설공사",null,null,1,{"$f":"공종별내역서!F27","v":0},0,{"$f":"공종별내역서!H27","v":0},0,{"$f":"공종별내역서!J27","v":0},0,0,0,null,"010101",null,"0101",null,3]
["010102  창호공사",null,null,1,{"$f":"공종별내역서!F51","v":0},0,{"$f":"공종별내역서!H51","v":0},0,{"$f":"공종별내역서!J51","v":0},0,0,0,null,"010102",null,"0101",null,3]
["010103  유리공사",null,null,1,{"$f":"공종별내역서!F75","v":0},0,{"$f":"공종별내역서!H75","v":0},0,{"$f":"공종별내역서!J75","v":0},0,0,0,null,"010103",null,"0101",null,3]
["010104  수장공사",null,null,1,{"$f":"공종별내역서!F99","v":0},0,{"$f":"공종별내역서!H99","v":0},0,{"$f":"공종별내역서!J99","v":0},0,0,0,null,"010104",null,"0101",null,3]
["010105  카펫타일",null,null,1,{"$f":"공종별내역서!F123","v":0},0,{"$f":"공종별내역서!H123","v":0},0,{"$f":"공종별내역서!J123","v":0},0,0,0,null,"010105",null,"0101",null,3]
["010106  백페인트글라스",null,null,1,{"$f":"공종별내역서!F147","v":0},0,{"$f":"공종별내역서!H147","v":0},0,{"$f":"공종별내역서!J147","v":0},0,0,0,null,"010106",null,"0101",null,3]
["010107  가구공사",null,null,1,{"$f":"공종별내역서!F171","v":0},0,{"$f":"공종별내역서!H171","v":0},0,{"$f":"공종별내역서!J171","v":0},0,0,0,null,"010107",null,"0101",null,3]
["010108  롤스크린공사",null,null,1,{"$f":"공종별내역서!F195","v":0},0,{"$f":"공종별내역서!H195","v":0},0,{"$f":"공종별내역서!J195","v":0},0,0,0,null,"010108",null,"0101",null,3]
["010109  외부복도및주출입구 벽체공사",null,null,1,{"$f":"공종별내역서!F219","v":0},0,{"$f":"공종별내역서!H219","v":0},0,{"$f":"공종별내역서!J219","v":0},0,0,0,null,"010109",null,"0101",null,3]
["010110  출입구 벽체공사",null,null,1,{"$f":"공종별내역서!F243","v":0},0,{"$f":"공종별내역서!H243","v":0},0,{"$f":"공종별내역서!J243","v":0},0,0,0,null,"010110",null,"0101",null,3]
["010111  출입구 천장공사",null,null,1,{"$f":"공종별내역서!F267","v":0},0,{"$f":"공종별내역서!H267","v":0},0,{"$f":"공종별내역서!J267","v":0},0,0,0,null,"010111",null,"0101",null,3]
["010112  접수카운터 벽체공사",null,null,1,{"$f":"공종별내역서!F291","v":0},0,{"$f":"공종별내역서!H291","v":0},0,{"$f":"공종별내역서!J291","v":0},0,0,0,null,"010112",null,"0101",null,3]
["010113  접수카운터 천장공사",null,null,1,{"$f":"공종별내역서!F315","v":0},0,{"$f":"공종별내역서!H315","v":0},0,{"$f":"공종별내역서!J315","v":0},0,0,0,null,"010113",null,"0101",null,3]
["010114  고객대기공간 벽체공사",null,null,1,{"$f":"공종별내역서!F339","v":0},0,{"$f":"공종별내역서!H339","v":0},0,{"$f":"공종별내역서!J339","v":0},0,0,0,null,"010114",null,"0101",null,3]
["010115  고객대기공간 천장공사",null,null,1,{"$f":"공종별내역서!F363","v":0},0,{"$f":"공종별내역서!H363","v":0},0,{"$f":"공종별내역서!J363","v":0},0,0,0,null,"010115",null,"0101",null,3]
["010116  복도 벽체공사",null,null,1,{"$f":"공종별내역서!F387","v":0},0,{"$f":"공종별내역서!H387","v":0},0,{"$f":"공종별내역서!J387","v":0},0,0,0,null,"010116",null,"0101",null,3]
["010117  복도 천장공사",null,null,1,{"$f":"공종별내역서!F411","v":0},0,{"$f":"공종별내역서!H411","v":0},0,{"$f":"공종별내역서!J411","v":0},0,0,0,null,"010117",null,"0101",null,3]
["010118  전북지사 벽체공사",null,null,1,{"$f":"공종별내역서!F435","v":0},0,{"$f":"공종별내역서!H435","v":0},0,{"$f":"공종별내역서!J435","v":0},0,0,0,null,"010118",null,"0101",null,3]
["010119  전북지사 천장공사",null,null,1,{"$f":"공종별내역서!F459","v":0},0,{"$f":"공종별내역서!H459","v":0},0,{"$f":"공종별내역서!J459","v":0},0,0,0,null,"010119",null,"0101",null,3]
["010120  지사장실 벽체공사",null,null,1,{"$f":"공종별내역서!F483","v":0},0,{"$f":"공종별내역서!H483","v":0},0,{"$f":"공종별내역서!J483","v":0},0,0,0,null,"010120",null,"0101",null,3]
["010121  지사장실 천장공사",null,null,1,{"$f":"공종별내역서!F507","v":0},0,{"$f":"공종별내역서!H507","v":0},0,{"$f":"공종별내역서!J507","v":0},0,0,0,null,"010121",null,"0101",null,3]
["010122  상담실#1 벽체공사",null,null,1,{"$f":"공종별내역서!F531","v":0},0,{"$f":"공종별내역서!H531","v":0},0,{"$f":"공종별내역서!J531","v":0},0,0,0,null,"010122",null,"0101",null,3]
["010123  상담실#1 천장공사",null,null,1,{"$f":"공종별내역서!F555","v":0},0,{"$f":"공종별내역서!H555","v":0},0,{"$f":"공종별내역서!J555","v":0},0,0,0,null,"010123",null,"0101",null,3]
["010124  상담실#2 벽체공사",null,null,1,{"$f":"공종별내역서!F579","v":0},0,{"$f":"공종별내역서!H579","v":0},0,{"$f":"공종별내역서!J579","v":0},0,0,0,null,"010124",null,"0101",null,3]
["010125  상담실#2 천장공사",null,null,1,{"$f":"공종별내역서!F603","v":0},0,{"$f":"공종별내역서!H603","v":0},0,{"$f":"공종별내역서!J603","v":0},0,0,0,null,"010125",null,"0101",null,3]
["010126  연금상담실#1 벽체공사",null,null,1,{"$f":"공종별내역서!F627","v":0},0,{"$f":"공종별내역서!H627","v":0},0,{"$f":"공종별내역서!J627","v":0},0,0,0,null,"010126",null,"0101",null,3]
["010127  연금상담실#1 천장공사",null,null,1,{"$f":"공종별내역서!F651","v":0},0,{"$f":"공종별내역서!H651","v":0},0,{"$f":"공종별내역서!J651","v":0},0,0,0,null,"010127",null,"0101",null,3]
["010128  연금상담실#2 벽체공사",null,null,1,{"$f":"공종별내역서!F675","v":0},0,{"$f":"공종별내역서!H675","v":0},0,{"$f":"공종별내역서!J675","v":0},0,0,0,null,"010128",null,"0101",null,3]
["010129  연금상담실#2 천장공사",null,null,1,{"$f":"공종별내역서!F699","v":0},0,{"$f":"공종별내역서!H699","v":0},0,{"$f":"공종별내역서!J699","v":0},0,0,0,null,"010129",null,"0101",null,3]
["010130  EDMS 벽체공사",null,null,1,{"$f":"공종별내역서!F723","v":0},0,{"$f":"공종별내역서!H723","v":0},0,{"$f":"공종별내역서!J723","v":0},0,0,0,null,"010130",null,"0101",null,3]
["010131  EDMS 천장공사",null,null,1,{"$f":"공종별내역서!F747","v":0},{"$f":"E37*D37","v":0},{"$f":"공종별내역서!H747","v":0},{"$f":"G37*D37","v":0},{"$f":"공종별내역서!J747","v":0},{"$f":"I37*D37","v":0},{"$f":"E37+G37+I37","v":0},{"$f":"F37+H37+J37","v":0},null,"010131",null,"0101",null,3]
["010132  OA실 벽체공사",null,null,1,{"$f":"공종별내역서!F771","v":0},0,{"$f":"공종별내역서!H771","v":0},0,{"$f":"공종별내역서!J771","v":0},0,0,0,null,"010132",null,"0101",null,3]
["010133  OA실 천장공사",null,null,1,{"$f":"공종별내역서!F795","v":0},0,{"$f":"공종별내역서!H795","v":0},0,{"$f":"공종별내역서!J795","v":0},0,0,0,null,"010133",null,"0101",null,3]
["010134  탕비실 벽체공사",null,null,1,{"$f":"공종별내역서!F819","v":0},0,{"$f":"공종별내역서!H819","v":0},0,{"$f":"공종별내역서!J819","v":0},0,0,0,null,"010134",null,"0101",null,3]
["010135  탕비실 천장공사",null,null,1,{"$f":"공종별내역서!F843","v":0},0,{"$f":"공종별내역서!H843","v":0},0,{"$f":"공종별내역서!J843","v":0},0,0,0,null,"010135",null,"0101",null,3]
["010136  휴게실 벽체공사",null,null,1,{"$f":"공종별내역서!F867","v":0},0,{"$f":"공종별내역서!H867","v":0},0,{"$f":"공종별내역서!J867","v":0},0,0,0,null,"010136",null,"0101",null,3]
["010137  휴게실 천장공사",null,null,1,{"$f":"공종별내역서!F891","v":0},0,{"$f":"공종별내역서!H891","v":0},0,{"$f":"공종별내역서!J891","v":0},0,0,0,null,"010137",null,"0101",null,3]
["010138  고객편의공간 벽체공사",null,null,1,{"$f":"공종별내역서!F915","v":0},0,{"$f":"공종별내역서!H915","v":0},0,{"$f":"공종별내역서!J915","v":0},0,0,0,null,"010138",null,"0101",null,3]
["010139  고객편의공간 천장공사",null,null,1,{"$f":"공종별내역서!F939","v":0},0,{"$f":"공종별내역서!H939","v":0},0,{"$f":"공종별내역서!J939","v":0},0,0,0,null,"010139",null,"0101",null,3]
["010140  회의실 벽체공사",null,null,1,{"$f":"공종별내역서!F963","v":0},0,{"$f":"공종별내역서!H963","v":0},0,{"$f":"공종별내역서!J963","v":0},0,0,0,null,"010140",null,"0101",null,3]
["010141  회의실 천장공사",null,null,1,{"$f":"공종별내역서!F987","v":0},0,{"$f":"공종별내역서!H987","v":0},0,{"$f":"공종별내역서!J987","v":0},0,0,0,null,"010141",null,"0101",null,3]
["010142  창고 벽체공사",null,null,1,{"$f":"공종별내역서!F1011","v":0},0,{"$f":"공종별내역서!H1011","v":0},0,{"$f":"공종별내역서!J1011","v":0},0,0,0,null,"010142",null,"0101",null,3]
["010143  창고 천장공사",null,null,1,{"$f":"공종별내역서!F1035","v":0},0,{"$f":"공종별내역서!H1035","v":0},0,{"$f":"공종별내역서!J1035","v":0},0,0,0,null,"010143",null,"0101",null,3]
["010144  서버실 벽체공사",null,null,1,{"$f":"공종별내역서!F1059","v":0},0,{"$f":"공종별내역서!H1059","v":0},0,{"$f":"공종별내역서!J1059","v":0},0,0,0,null,"010144",null,"0101",null,3]
["010145  서버실 천장공사",null,null,1,{"$f":"공종별내역서!F1083","v":0},0,{"$f":"공종별내역서!H1083","v":0},0,{"$f":"공종별내역서!J1083","v":0},0,0,0,null,"010145",null,"0101",null,3]
["010146  서고 바닥공사",null,null,1,{"$f":"공종별내역서!F1107","v":0},0,{"$f":"공종별내역서!H1107","v":0},0,{"$f":"공종별내역서!J1107","v":0},0,0,0,null,"010146",null,"0101",null,3]
["010147  서고 벽체공사",null,null,1,{"$f":"공종별내역서!F1131","v":0},0,{"$f":"공종별내역서!H1131","v":0},0,{"$f":"공종별내역서!J1131","v":0},0,0,0,null,"010147",null,"0101",null,3]
["010148  서고 천장공사",null,null,1,{"$f":"공종별내역서!F1155","v":0},0,{"$f":"공종별내역서!H1155","v":0},0,{"$f":"공종별내역서!J1155","v":0},0,0,0,null,"010148",null,"0101",null,3]
["010149  철거공사",null,null,1,{"$f":"공종별내역서!F1179","v":0},0,{"$f":"공종별내역서!H1179","v":0},0,{"$f":"공종별내역서!J1179","v":0},0,0,0,null,"010149",null,"0101",null,3]
["010150  건설폐기물처리비",null,null,1,{"$f":"공종별내역서!F1203","v":0},0,{"$f":"공종별내역서!H1203","v":0},0,{"$f":"공종별내역서!J1203","v":0},0,0,0,null,"010150",null,null,"6",3,null,{"$f":"L56*1","v":0}]
["0102  ■기계설비공사",null,null,1,{"$f":"공종별내역서!F1227","v":0},0,{"$f":"공종별내역서!H1227","v":0},0,{"$f":"공종별내역서!J1227","v":0},0,0,0,null,"0102",null,"01",null,2]
{"$rows_empty":12}
["[ 합           계 ]",{"$nulls":4},{"$f":"F5","v":0},null,{"$f":"H5","v":0},null,{"$f":"J5","v":0},null,{"$f":"L5","v":0}]

{"sheet":"공종별내역서","index":2,"n_rows":1227,"n_cols":48,"rows_kept":1227,"merged":[[0,0,0,12],[1,0,2,0],[1,1,2,1],[1,2,2,2],[1,3,2,3],[1,4,1,5],[1,6,1,7],[1,8,1,9],[1,10,1,11],[1,12,2,12],[1,13,2,13],[1,14,2,14],[1,15,2,15],[1,16,2,16],[1,17,2,17],[1,18,2,18],[1,19,2,19],[1,20,2,20],[1,21,2,21],[1,22,2,22],[1,23,2,23],[1,24,2,24],[1,25,2,25],[1,26,2,26],[1,27,2,27],[1,28,2,28],[1,29,2,29],[1,30,2,30],[1,31,2,31],[1,32,2,32],[1,33,2,33],[1,34,2,34],[1,35,2,35],[1,36,2,36],[1,37,2,37],[1,38,2,38],[1,39,2,39],[1,40,2,40],[1,41,2,41],[1,42,2,42],[1,43,2,43],[1,44,2,44],[1,45,2,45],[1,46,2,46],[1,47,2,47]]}
["[ 한국주택금융공사 전북지사 인테리어공사 ]"]
["품      명","규      격","단위","수량","재  료  비",null,"노  무  비",null,"경      비",null,"합      계",null,"비  고","품목코드","변수","설정","공종코드","일위","단산","자재","손료적용","손료저장","적용율","JUK1","JUK2","JUK3","JUK4","JUK5","JUK6","JUK7","JUK8","JUK9","JUK10","JUK11","JUK12","JUK13","JUK14","JUK15","JUK16","JUK17","JUK18","JUK19","JUK20","자재구분","공종구분","공종레벨","공종+자재","고유번호"]
[{"$nulls":4},"단  가","금  액","단  가","금  액","단  가","금  액","단  가","금  액"]
["010101  가설공사","■건축공사",{"$nulls":14},"010101"]
["강관 조립말비계(이동식)설치 및 해체","높이 2m, 3개월","대",3,null,{"$f":"TRUNC(E5*D5, 0)","v":0},null,{"$f":"TRUNC(G5*D5, 0)","v":0},null,{"$f":"TRUNC(I5*D5, 0)","v":0},{"$f":"TRUNC(E5+G5+I5, 0)","v":0},0,null,"5021117C7CA2137B9AACEC35B4D22D",null,null,"010101","T","F","F",{"$nulls":26},"0101015021117C7CA2137B9AACEC35B4D22D",4]
["건축물현장정리","청소 및 뒤정리","M2",435,null,0,null,0,null,0,0,0,null,"5021117C249CB35E99E746C8F4B6D6",null,null,"010101","T","F","F",{"$nulls":26},"0101015021117C249CB35E99E746C8F4B6D6",5]
["자재소운반","면적기준","M2",435,null,0,null,0,null,0,0,0,null,"5021117C249CB35E99E746C8F4B6D7",null,null,"010101","T","F","F",{"$nulls":26},"0101015021117C249CB35E99E746C8F4B6D7",6]
["자재소운반","천장면적기준","M2",435,null,0,null,0,null,0,0,0,null,"5021117C249CB35E99E746C8F4B6D4",null,null,"010101","T","F","F",{"$nulls":26},"0101015021117C249CB35E99E746C8F4B6D4",7]
["폐기물상차(바닥면적기준)","인력,지정장소","M2",435,null,0,null,0,null,0,0,0,null,"5021117C249CB35E99E746C8F4B6D5",null,null,"010101","T","F","F",{"$nulls":26},"0101015021117C249CB35E99E746C8F4B6D5",8]
["건축물보양 - 기존마감재","하드롱지","M2",70,null,0,null,0,null,0,0,0,null,"5021117C24AD437F9734F4E0E4ADEF",null,null,"010101","T","F","F",{"$nulls":26},"0101015021117C24AD437F9734F4E0E4ADEF",9]
{"$rows_empty":16}
["[ 합           계 ]",{"$nulls":4},{"$f":"SUM(F5:F26)","v":0},null,{"$f":"SUM(H5:H26)","v":0},null,{"$f":"SUM(J5:J26)","v":0},null,{"$f":"SUM(L5:L26)","v":0},null,"TOTAL"]
["010102  창호공사","■건축공사",{"$nulls":14},"010102"]
["G01","11.322 x 2.800 = 31.701","EA",4,null,{"$f":"TRUNC(E29*D29, 0)","v":0},null,{"$f":"TRUNC(G29*D29, 0)","v":0},null,{"$f":"TRUNC(I29*D29, 0)","v":0},{"$f":"TRUNC(E29+G29+I29, 0)","v":0},{"$f":"TRUNC(F29+H29+J29, 0)","v":0},null,"5021C173111B73DA95A08FB4644F90",null,null,"010102","T","F","F",{"$nulls":26},"0101025021C173111B73DA95A08FB4644F90",29]
["G02","11.125 x 2.800 = 31.150","EA",1,null,0,null,0,null,0,0,0,null,"5021C173111B73DA95A08FB4644F9E",null,null,"010102","T","F","F",{"$nulls":26},"0101025021C173111B73DA95A08FB4644F9E",30]
["G03","2.352 x 2.800 = 6.585","EA",1,null,0,null,0,null,0,0,0,null,"5021C173111B73DA95A08FB4644EF1",null,null,"010102","T","F","F",{"$nulls":26},"0101025021C173111B73DA95A08FB4644EF1",31]
["G04","2.600 x 1.600 = 4.160","EA",1,null,0,null,0,null,0,0,0,null,"5021C173111B73DA95A08FB4644EF3",null,null,"010102","T","F","F",{"$nulls":26},"0101025021C173111B73DA95A08FB4644EF3",32]
["D01","3.200 x 2.800 = 8.960","EA",1,null,0,null,0,null,0,0,0,null,"5021C173111B73DA95A08FB4644F96",null,null,"010102","T","F","F",{"$nulls":26},"0101025021C173111B73DA95A08FB4644F96",26]
["D02","1.000 x 2.100 = 2.100","EA",3,null,0,null,0,null,0,0,0,null,"5021C173111B73DA95A08FB4644F94",null,null,"010102","T","F","F",{"$nulls":26},"0101025021C173111B73DA95A08FB4644F94",27]
["유리문","유리문, 12*900*2100mm, 투명, 세이프강화도어(락2000, 손보호용)","개",18,null,0,null,0,null,0,0,0,null,"5704617EE0F9D35F9470C848A4A029ECF787BF",null,null,"010102","F","F","T",{"$nulls":26},"0101025704617EE0F9D35F9470C848A4A029ECF787BF",13]
["유리문","유리문, 12*800*2500mm, 투명, 세이프강화도어(락2000, 손보호용)","개",2,null,0,null,0,null,0,0,0,null,"5704617EE0F9D35F9470C848A4A029ECF787CF",null,null,"010102","F","F","T",{"$nulls":26},"0101025704617EE0F9D35F9470C848A4A029ECF787CF",14]
["슬라이딩자동문","양개(강화유리문별도)","SET",1,null,0,null,0,null,0,0,0,null,"5704617EE0F9D35F94667C93948BC1EE17C8BC",null,null,"010102","F","F","T",{"$nulls":26},"0101025704617EE0F9D35F94667C93948BC1EE17C8BC",422]
["강화유리문손잡이","고급형","개",18,null,0,null,0,null,0,0,0,null,"5704617EE0F9D35F9470C848A4A029ECF78C20",null,null,"010102","F","F","T",{"$nulls":26},"0101025704617EE0F9D35F9470C848A4A029ECF78C20",15]
["플로어힌지","플로어힌지, KS5호, 150kg, 강화유리문(K-8500)","조",18,null,0,null,0,null,0,0,0,null,"5704717F72E4A3279702B289A4490D6F4904AC",null,null,"010102","F","F","T",{"$nulls":26},"0101025704717F72E4A3279702B289A4490D6F4904AC",20]
["플로어힌지 설치","재료비 별도","개소",18,null,0,null,0,null,0,0,0,null,"5021C1736918234A9623D65684CFC6",null,null,"010102","T","F","F",{"$nulls":26},"0101025021C1736918234A9623D65684CFC6",39]
["도어핸들","레버형, 스테인리스","조",3,null,0,null,0,null,0,0,0,null,"5704717F72E4A32B9EBCEB85C4D0010DD88020",null,null,"010102","F","F","T",{"$nulls":26},"0101025704717F72E4A32B9EBCEB85C4D0010DD88020",21]
["도어록 설치 / 일반도어록 목재창호","재료비 별도","개소",3,null,0,null,0,null,0,0,0,null,"5021C173692A93559D2F671474C770",null,null,"010102","T","F","F",{"$nulls":26},"0101025021C173692A93559D2F671474C770",38]
["디지털도어록","일반, 카드키전용, 매직미러, 비밀번호","SET",3,null,0,null,0,null,0,0,0,null,"5704717F72E4A32B9EBCEB85C4D0010DD882A0",null,null,"010102","F","F","T",{"$nulls":26},"0101025704717F72E4A32B9EBCEB85C4D0010DD882A0",22]
["도어록 설치 / 디지탈도어록(유리문용)","재료비 별도","개소",3,null,0,null,0,null,0,0,0,null,"5021C173692A93559D2F444504EB71",null,null,"010102","T","F","F",{"$nulls":26},"0101025021C173692A93559D2F444504EB71",423]
["각형강관설치(ㅁ-1.5T)","20*20*1.12kg, @450*450 방청P","M2",1,null,0,null,0,null,0,0,0,null,"5021A17EEC566373981D61ED049425",null,null,"010102","T","F","F",{"$nulls":26},"0101025021A17EEC566373981D61ED049425",25]
["지정마감(컬러스테인리스)","MT-01 Bead BK","M2",1,null,0,null,0,null,0,0,0,null,"5021C1732300B3439D9E925184E9F0",null,null,"010102","T","F","F",{"$nulls":26},"0101025021C1732300B3439D9E925184E9F0",424]
["수밀코킹(실리콘)","삼각, 10mm, 창호주위","M",339,null,0,null,0,null,0,0,0,null,"5021817935F083CE9E1057C0C43102",null,null,"010102","T","F","F",{"$nulls":26},"0101025021817935F083CE9E1057C0C43102",24]
["창호주위 발포우레탄 충전",null,"M",169,null,0,null,0,null,0,0,0,null,"5021C1736972C3B49AF1F9AB2499FC",null,null,"010102","T","F","F",{"$nulls":26},"0101025021C1736972C3B49AF1F9AB2499FC",40]
[]
[]
["[ 합           계 ]",{"$nulls":4},{"$f":"SUM(F29:F50)","v":0},null,{"$f":"SUM(H29:H50)","v":0},null,{"$f":"SUM(J29:J50)","v":0},null,{"$f":"SUM(L29:L50)","v":0},null,"TOTAL"]
["010103  유리공사","■건축공사",{"$nulls":14},"010103"]
["강화유리","강화유리, 투명, 12mm","M2",139,null,{"$f":"TRUNC(E53*D53, 0)","v":0},null,{"$f":"TRUNC(G53*D53, 0)","v":0},null,{"$f":"TRUNC(I53*D53, 0)","v":0},{"$f":"TRUNC(E53+G53+I53, 0)","v":0},0,null,"5704617EE0F9D35D99994A2D941D4DB465C0DC",null,null,"010103","F","F","T",{"$nulls":26},"0101035704617EE0F9D35D99994A2D941D4DB465C0DC",425]
["창호유리설치 / 판유리","유리두께 12mm 이하","M2",139,null,{"$f":"TRUNC(E54*D54, 0)","v":0},null,{"$f":"TRUNC(G54*D54, 0)","v":0},null,{"$f":"TRUNC(I54*D54, 0)","v":0},0,0,null,"5021C1737BB613999DC8203D240C04",null,null,"010103","T","F","F",{"$nulls":26},"0101035021C1737BB613999DC8203D240C04",45]
["유리주위 코킹","5*5, 실리콘","M",690,null,{"$f":"TRUNC(E55*D55, 0)","v":0},null,{"$f":"TRUNC(G55*D55, 0)","v":0},null,{"$f":"TRUNC(I55*D55, 0)","v":0},0,0,null,"5021817935E6236890D68131340BC8",null,null,"010103","T","F","F",{"$nulls":26},"0101035021817935E6236890D68131340BC8",44]
{"$rows_empty":19}
["[ 합           계 ]",{"$nulls":4},{"$f":"SUM(F53:F74)","v":0},null,{"$f":"SUM(H53:H74)","v":0},null,{"$f":"SUM(J53:J74)","v":0},null,{"$f":"SUM(L53:L74)","v":0},null,"TOTAL"]
["010104  수장공사","■건축공사",{"$nulls":14},"010104"]
["천장점검구 설치","AL 백색, 600*600mm","개소",16,null,{"$f":"TRUNC(E77*D77, 0)","v":0},null,{"$f":"TRUNC(G77*D77, 0)","v":0},null,{"$f":"TRUNC(I77*D77, 0)","v":0},{"$f":"TRUNC(E77+G77+I77, 0)","v":0},{"$f":"TRUNC(F77+H77+J77, 0)","v":0},null,"5021A17EA6A7634A961AC796A493D5",null,null,"010104","T","F","F",{"$nulls":26},"0101045021A17EA6A7634A961AC796A493D5",48]
["각형강관설치(ㅁ-1.5T)","20*20*1.12kg, @450*450 방청P","M2",18,null,0,null,0,null,0,0,0,null,"5021A17EEC566373981D61ED049425",null,null,"010104","T","F","F",{"$nulls":26},"0101045021A17EEC566373981D61ED049425",49]
["각형강관설치(ㅁ-1.6T)","100*50*3.64kg, @450*450 방청P","M",30,null,0,null,0,null,0,0,0,null,"5021A17EEC566373981D61ED0497F9",null,null,"010104","T","F","F",{"$nulls":26},"0101045021A17EEC566373981D61ED0497F9",51]
["창호보강재설치","75*40 H=1600","M",27,null,0,null,0,null,0,0,0,null,"5021A17EEC566373981D61ED0496D2",null,null,"010104","T","F","F",{"$nulls":26},"0101045021A17EEC566373981D61ED0496D2",50]
["창호보강재설치","75*40@450*450","M2",7,null,0,null,0,null,0,0,0,null,"5021A17EEC566373981D61ED0496D5",null,null,"010104","T","F","F",{"$nulls":26},"0101045021A17EEC566373981D61ED0496D5",427]
["아연도강판설치","T=1.6mm","M2",37,null,0,null,0,null,0,0,0,null,"5021A17EEC566373981D61ED0496D4",null,null,"010104","T","F","F",{"$nulls":26},"0101045021A17EEC566373981D61ED0496D4",52]
["메탈스터드설치","C-50×45*0.8T @450","M2",29,null,0,null,0,null,0,0,0,null,"5021A17EC1BA739791C83787E47701",null,null,"010104","T","F","F",{"$nulls":26},"0101045021A17EC1BA739791C83787E47701",53]
["메탈스터드설치","C-65×45*0.8T @450","M2",68,null,0,null,0,null,0,0,0,null,"5021A17EC1BA739791C83787E47702",null,null,"010104","T","F","F",{"$nulls":26},"0101045021A17EC1BA739791C83787E47702",54]
["메탈스터드설치","C-75×45*0.8T @450","M2",372,null,0,null,0,null,0,0,0,null,"5021A17EC1BA739791C83787E47703",null,null,"010104","T","F","F",{"$nulls":26},"0101045021A17EC1BA739791C83787E47703",55]
["지정마감(컬러스테인리스)","MT-01 Bead BK","M2",10,null,0,null,0,null,0,0,0,null,"5021C1732300B3439D9E925184E9F0",null,null,"010104","T","F","F",{"$nulls":26},"0101045021C1732300B3439D9E925184E9F0",56]
["지정마감","벽, PT-03, KCC MATT","M2",33,null,0,null,0,null,0,0,0,null,"5021E177C71223649DF3F4E4E4CAE0",null,null,"010104","T","F","F",{"$nulls":26},"0101045021E177C71223649DF3F4E4E4CAE0",57]
["철재면 바탕만들기","불순물 제거","M2",33,null,0,null,0,null,0,0,0,null,"5021E176D8A063E894E1C363849A16",null,null,"010104","T","F","F",{"$nulls":26},"0101045021E176D8A063E894E1C363849A16",58]
["그라스울보온재설치","벽, 50T 24K, 고정핀포함","M2",305,null,0,null,0,null,0,0,0,null,"5021F1760F4D43AC9A022EAED44260",null,null,"010104","T","F","F",{"$nulls":26},"0101045021F1760F4D43AC9A022EAED44260",59]
["화강석 재료분리대(건식, 물갈기)","마천석, 190*30mm","M",3,null,0,null,0,null,0,0,0,null,"5021F17634C8E3DC91BED96C54CAB0",null,null,"010104","T","F","F",{"$nulls":26},"0101045021F17634C8E3DC91BED96C54CAB0",60]
{"$rows_empty":8}
["[ 합           계 ]",{"$nulls":4},{"$f":"SUM(F77:F98)","v":0},null,{"$f":"SUM(H77:H98)","v":0},null,{"$f":"SUM(J77:J98)","v":0},null,{"$f":"SUM(L77:L98)","v":0},null,"TOTAL"]
["010105  카펫타일","■건축공사",{"$nulls":14},"010105"]
["지정마감(카페트타일)","CA-01, KR3060","M2",77,null,{"$f":"TRUNC(E101*D101, 0)","v":0},null,{"$f":"TRUNC(G101*D101, 0)","v":0},null,{"$f":"TRUNC(I101*D101, 0)","v":0},{"$f":"TRUNC(E101+G101+I101, 0)","v":0},0,null,"5021F1765761130193E3599D44E56F",null,null,"010105","T","F","F",{"$nulls":26},"0101055021F1765761130193E3599D44E56F",63]
["지정마감(카페트타일)","CA-02, GA4705","M2",150,null,{"$f":"TRUNC(E102*D102, 0)","v":0},null,{"$f":"TRUNC(G102*D102, 0)","v":0},null,{"$f":"TRUNC(I102*D102, 0)","v":0},0,0,null,"5021F1765761130193E3599D44E56C",null,null,"010105","T","F","F",{"$nulls":26},"0101055021F1765761130193E3599D44E56C",64]
["지정마감(카페트타일)","CA-03, GA4605","M2",117,null,{"$f":"TRUNC(E103*D103, 0)","v":0},null,{"$f":"TRUNC(G103*D103, 0)","v":0},null,{"$f":"TRUNC(I103*D103, 0)","v":0},0,0,null,"5021F1765761130193E3599D44E56D",null,null,"010105","T","F","F",{"$nulls":26},"0101055021F1765761130193E3599D44E56D",65]
["지정마감(카페트타일)","CA-04, VE905","M2",101,null,{"$f":"TRUNC(E104*D104, 0)","v":0},null,{"$f":"TRUNC(G104*D104, 0)","v":0},null,{"$f":"TRUNC(I104*D104, 0)","v":0},0,0,null,"5021F1765761130193E3599D44E56A",null,null,"010105","T","F","F",{"$nulls":26},"0101055021F1765761130193E3599D44E56A",66]
{"$rows_empty":18}
["[ 합           계 ]",{"$nulls":4},{"$f":"SUM(F101:F122)","v":0},null,{"$f":"SUM(H101:H122)","v":0},null,{"$f":"SUM(J101:J122)","v":0},null,{"$f":"SUM(L101:L122)","v":0},null,"TOTAL"]
["010106  백페인트글라스","■건축공사",{"$nulls":14},"010106"]
["지정마감","GL-02, 백페인트글라스(회의실)","M2",11,null,{"$f":"TRUNC(E125*D125, 0)","v":0},null,{"$f":"TRUNC(G125*D125, 0)","v":0},null,{"$f":"TRUNC(I125*D125, 0)","v":0},{"$f":"TRUNC(E125+G125+I125, 0)","v":0},0,null,"5021F17672136332941DA3E124CFCD",null,null,"010106","T","F","F",{"$nulls":26},"0101065021F17672136332941DA3E124CFCD",70]
["지정마감","GL-03, 백페인트글라스(탕비실)","M2",2,null,{"$f":"TRUNC(E126*D126, 0)","v":0},null,{"$f":"TRUNC(G126*D126, 0)","v":0},null,{"$f":"TRUNC(I126*D126, 0)","v":0},0,0,null,"5021F17672136332941DA3E124CFCE",null,null,"010106","T","F","F",{"$nulls":26},"0101065021F17672136332941DA3E124CFCE",428]
["지정마감","GL-04 5mm KCC A LB301(백페인트글라스)","M2",13,null,{"$f":"TRUNC(E127*D127, 0)","v":0},null,{"$f":"TRUNC(G127*D127, 0)","v":0},null,{"$f":"TRUNC(I127*D127, 0)","v":0},0,0,null,"5021F17672136332941DA3E124CFCF",null,null,"010106","T","F","F",{"$nulls":26},"0101065021F17672136332941DA3E124CFCF",429]
{"$rows_empty":19}
["[ 합           계 ]",{"$nulls":4},{"$f":"SUM(F125:F146)","v":0},null,{"$f":"SUM(H125:H146)","v":0},null,{"$f":"SUM(J125:J146)","v":0},null,{"$f":"SUM(L125:L146)","v":0},null,"TOTAL"]
["010107  가구공사","■건축공사",{"$nulls":14},"010107"]
["고객대기공간안내데스크가구1","3350*1000*1400","EA",1,null,{"$f":"TRUNC(E149*D149, 0)","v":0},null,{"$f":"TRUNC(G149*D149, 0)","v":0},null,{"$f":"TRUNC(I149*D149, 0)","v":0},{"$f":"TRUNC(E149+G149+I149, 0)","v":0},0,null,"5194A175057933E89DF2F759345C1962BF7F93",null,null,"010107","F","F","T",{"$nulls":26},"0101075194A175057933E89DF2F759345C1962BF7F93",431]
["상담데스크가구2","1600*420*800","EA",1,null,0,null,0,null,0,0,0,null,"5194A175057933E89DF2F759345C1962BF7F90",null,null,"010107","F","F","T",{"$nulls":26},"0101075194A175057933E89DF2F759345C1962BF7F90",432]
["고객편의공간가구3","2600*600*1600","EA",1,null,0,null,0,null,0,0,0,null,"5194A175057933E89DF2F759345C1962BF7F91",null,null,"010107","F","F","T",{"$nulls":26},"0101075194A175057933E89DF2F759345C1962BF7F91",433]
["고객편의가구4","2600*650*760","EA",1,null,0,null,0,null,0,0,0,null,"5194A175057933E89DF2F759345C1962BF7F96",null,null,"010107","F","F","T",{"$nulls":26},"0101075194A175057933E89DF2F759345C1962BF7F96",434]
["탕비실가구5","2900*650*2000","EA",1,null,0,null,0,null,0,0,0,null,"5194A175057933E89DF2F759345C1962BF7F97",null,null,"010107","F","F","T",{"$nulls":26},"0101075194A175057933E89DF2F759345C1962BF7F97",435]
["탕비실가구6","1600*650*2100","EA",1,null,0,null,0,null,0,0,0,null,"5194A175057933E89DF2F759345C1962BF7F94",null,null,"010107","F","F","T",{"$nulls":26},"0101075194A175057933E89DF2F759345C1962BF7F94",436]
{"$rows_empty":16}
["[ 합           계 ]",{"$nulls":4},{"$f":"SUM(F149:F170)","v":0},null,{"$f":"SUM(H149:H170)","v":0},null,{"$f":"SUM(J149:J170)","v":0},null,{"$f":"SUM(L149:L170)","v":0},null,"TOTAL"]
["010108  롤스크린공사","■건축공사",{"$nulls":14},"010108"]
["방염암막롤스크린","675*2400","개소",2,null,{"$f":"TRUNC(E173*D173, 0)","v":0},null,{"$f":"TRUNC(G173*D173, 0)","v":0},null,{"$f":"TRUNC(I173*D173, 0)","v":0},{"$f":"TRUNC(E173+G173+I173, 0)","v":0},{"$f":"TRUNC(F173+H173+J173, 0)","v":0},null,"5021F17661F463D598784C2DE4028B",null,null,"010108","T","F","F",{"$nulls":26},"0101085021F17661F463D598784C2DE4028B",437]
["방염암막롤스크린","1100*2400","개소",1,null,0,null,0,null,0,0,0,null,"5021F17661F463D598784C2DE40288",null,null,"010108","T","F","F",{"$nulls":26},"0101085021F17661F463D598784C2DE40288",438]
["방염암막롤스크린","1300*2400","개소",4,null,0,null,0,null,0,0,0,null,"5021F17661F463D598784C2DE40289",null,null,"010108","T","F","F",{"$nulls":26},"0101085021F17661F463D598784C2DE40289",439]
["방염암막롤스크린","2145*2400","개소",1,null,0,null,0,null,0,0,0,null,"5021F17661F463D598784C2DE4028E",null,null,"010108","T","F","F",{"$nulls":26},"0101085021F17661F463D598784C2DE4028E",440]
["방염암막롤스크린","2195*2400","개소",1,null,0,null,0,null,0,0,0,null,"5021F17661F463D598784C2DE4028F",null,null,"010108","T","F","F",{"$nulls":26},"0101085021F17661F463D598784C2DE4028F",441]
["방염암막롤스크린","2295*2400","개소",1,null,0,null,0,null,0,0,0,null,"5021F17661F463D598784C2DE4028C",null,null,"010108","T","F","F",{"$nulls":26},"0101085021F17661F463D598784C2DE4028C",442]
["방염암막롤스크린","3545*2400","개소",1,null,0,null,0,null,0,0,0,null,"5021F17661F463D598784C2DE4028D",null,null,"010108","T","F","F",{"$nulls":26},"0101085021F17661F463D598784C2DE4028D",443]
["방염암막롤스크린","9950*2400","개소",1,null,0,null,0,null,0,0,0,null,"5021F17661F463D598784C2DE40282",null,null,"010108","T","F","F",{"$nulls":26},"0101085021F17661F463D598784C2DE40282",444]
["실측시공비(지방경비)",null,"식",1,null,0,null,0,null,0,0,0,null,"5194A175057933E89DF2F759345C1962BF7F95",null,null,"010108","F","F","T",{"$nulls":26},"0101085194A175057933E89DF2F759345C1962BF7F95",445]
{"$rows_empty":13}
["[ 합           계 ]",{"$nulls":4},{"$f":"SUM(F173:F194)","v":0},null,{"$f":"SUM(H173:H194)","v":0},null,{"$f":"SUM(J173:J194)","v":0},null,{"$f":"SUM(L173:L194)","v":0},null,"TOTAL"]
["010109  외부복도및주출입구 벽체공사","■건축공사",{"$nulls":14},"010109"]
["케이싱비드","아연도, 높이 12.7mm","M",2,null,{"$f":"TRUNC(E197*D197, 0)","v":0},null,{"$f":"TRUNC(G197*D197, 0)","v":0},null,{"$f":"TRUNC(I197*D197, 0)","v":0},{"$f":"TRUNC(E197+G197+I197, 0)","v":0},{"$f":"TRUNC(F197+H197+J197, 0)","v":0},null,"5021717A4CC6F31C99304A37A478C7",null,null,"010109","T","F","F",{"$nulls":26},"0101095021717A4CC6F31C99304A37A478C7",81]
["실리콘코킹","20*20, 조인트용","M",2,null,0,null,0,null,0,0,0,null,"5021817935F083CE9E1057C0C43103",null,null,"010109","T","F","F",{"$nulls":26},"0101095021817935F083CE9E1057C0C43103",82]
["각형강관설치(ㅁ-1.5T)","20*20*1.12kg, @450*450 방청P","M2",17,null,0,null,0,null,0,0,0,null,"5021A17EEC566373981D61ED049425",null,null,"010109","T","F","F",{"$nulls":26},"0101095021A17EEC566373981D61ED049425",83]
["지정마감(컬러스테인리스)","MT-01 Bead BK","M2",27,null,0,null,0,null,0,0,0,null,"5021C1732300B3439D9E925184E9F0",null,null,"010109","T","F","F",{"$nulls":26},"0101095021C1732300B3439D9E925184E9F0",84]
["지정마감","벽, PT-01, A HA331","M2",7,null,0,null,0,null,0,0,0,null,"5021E177D16E331F996D280C64B29D",null,null,"010109","T","F","F",{"$nulls":26},"0101095021E177D16E331F996D280C64B29D",85]
["석고보드면 바탕만들기","줄퍼티 노무비","M2",7,null,0,null,0,null,0,0,0,null,"5021E176D8A063E894E1EE452465A0",null,null,"010109","T","F","F",{"$nulls":26},"0101095021E176D8A063E894E1EE452465A0",86]
["지정마감","PT-02, HEXACHROME BLACK U, H=60, MDF 6T 포함","M",2,null,0,null,0,null,0,0,0,null,"5021F176572B63D39AD79088441209",null,null,"010109","T","F","F",{"$nulls":26},"0101095021F176572B63D39AD79088441209",87]
["석고판 나사 고정(치장용)","벽, 석고보드(일반), 12.5T*2겹","M2",7,null,0,null,0,null,0,0,0,null,"5021F1767274134898A0CC60B44A0F",null,null,"010109","T","F","F",{"$nulls":26},"0101095021F1767274134898A0CC60B44A0F",88]
["벽, 합판붙임","6.0mm(합판포함)","M2",17,null,0,null,0,null,0,0,0,null,"5021F176721363319BA09A6604264B",null,null,"010109","T","F","F",{"$nulls":26},"0101095021F176721363319BA09A6604264B",89]
{"$rows_empty":13}
["[ 합           계 ]",{"$nulls":4},{"$f":"SUM(F197:F218)","v":0},null,{"$f":"SUM(H197:H218)","v":0},null,{"$f":"SUM(J197:J218)","v":0},null,{"$f":"SUM(L197:L218)","v":0},null,"TOTAL"]
["010110  출입구 벽체공사","■건축공사",{"$nulls":14},"010110"]
["케이싱비드","아연도, 높이 12.7mm","M",9,null,{"$f":"TRUNC(E221*D221, 0)","v":0},null,{"$f":"TRUNC(G221*D221, 0)","v":0},null,{"$f":"TRUNC(I221*D221, 0)","v":0},{"$f":"TRUNC(E221+G221+I221, 0)","v":0},0,null,"5021717A4CC6F31C99304A37A478C7",null,null,"010110","T","F","F",{"$nulls":26},"0101105021717A4CC6F31C99304A37A478C7",91]
["실리콘코킹","20*20, 조인트용","M",9,null,0,null,0,null,0,0,0,null,"5021817935F083CE9E1057C0C43103",null,null,"010110","T","F","F",{"$nulls":26},"0101105021817935F083CE9E1057C0C43103",92]
["지정마감","벽, PT-01, A HA331","M2",26,null,0,null,0,null,0,0,0,null,"5021E177D16E331F996D280C64B29D",null,null,"010110","T","F","F",{"$nulls":26},"0101105021E177D16E331F996D280C64B29D",93]
["석고보드면 바탕만들기","줄퍼티 노무비","M2",26,null,0,null,0,null,0,0,0,null,"5021E176D8A063E894E1EE452465A0",null,null,"010110","T","F","F",{"$nulls":26},"0101105021E176D8A063E894E1EE452465A0",94]
["지정마감","PT-02, HEXACHROME BLACK U, H=60, MDF 6T 포함","M",9,null,0,null,0,null,0,0,0,null,"5021F176572B63D39AD79088441209",null,null,"010110","T","F","F",{"$nulls":26},"0101105021F176572B63D39AD79088441209",95]
["석고판 나사 고정(바탕용)","벽, 석고보드(차음), 12.5T*2겹","M2",2,null,0,null,0,null,0,0,0,null,"5021F1767274134898A0CC60B44B10",null,null,"010110","T","F","F",{"$nulls":26},"0101105021F1767274134898A0CC60B44B10",96]
["석고판 나사 고정(치장용)","벽, 석고보드(일반), 12.5T*2겹","M2",33,null,0,null,0,null,0,0,0,null,"5021F1767274134898A0CC60B44A0F",null,null,"010110","T","F","F",{"$nulls":26},"0101105021F1767274134898A0CC60B44A0F",97]
{"$rows_empty":15}
["[ 합           계 ]",{"$nulls":4},{"$f":"SUM(F221:F242)","v":0},null,{"$f":"SUM(H221:H242)","v":0},null,{"$f":"SUM(J221:J242)","v":0},null,{"$f":"SUM(L221:L242)","v":0},null,"TOTAL"]
["010111  출입구 천장공사","■건축공사",{"$nulls":14},"010111"]
["경량철골천정틀-300mm(BAR 간격)","M-BAR, H:1m이상. 기존슬라브용","M2",14,null,{"$f":"TRUNC(E245*D245, 0)","v":0},null,{"$f":"TRUNC(G245*D245, 0)","v":0},null,{"$f":"TRUNC(I245*D245, 0)","v":0},{"$f":"TRUNC(E245+G245+I245, 0)","v":0},0,null,"5021A17EA6DCB36F97F4B1A3B41ED9",null,null,"010111","T","F","F",{"$nulls":26},"0101115021A17EA6DCB36F97F4B1A3B41ED9",99]
["지정마감","천장, PT-01, A HA331","M2",14,null,{"$f":"TRUNC(E246*D246, 0)","v":0},null,{"$f":"TRUNC(G246*D246, 0)","v":0},null,{"$f":"TRUNC(I246*D246, 0)","v":0},0,0,null,"5021E177D16E331F996D828034CC2D",null,null,"010111","T","F","F",{"$nulls":26},"0101115021E177D16E331F996D828034CC2D",100]
["석고보드면 바탕만들기","올퍼티 천장 노무비","M2",14,null,{"$f":"TRUNC(E247*D247, 0)","v":0},null,{"$f":"TRUNC(G247*D247, 0)","v":0},null,{"$f":"TRUNC(I247*D247, 0)","v":0},0,0,null,"5021E176D8A063E894E1EE57947137",null,null,"010111","T","F","F",{"$nulls":26},"0101115021E176D8A063E894E1EE57947137",101]
["석고판 나사 고정(치장용)","천장, 석고보드(치장),12.5T*2겹 붙임","M2",14,null,{"$f":"TRUNC(E248*D248, 0)","v":0},null,{"$f":"TRUNC(G248*D248, 0)","v":0},null,{"$f":"TRUNC(I248*D248, 0)","v":0},0,0,null,"5021F1767274134B95FF18F084684B",null,null,"010111","T","F","F",{"$nulls":26},"0101115021F1767274134B95FF18F084684B",102]
["AL몰딩 설치","TZ형, 43*20*1.3mm","M",12,null,{"$f":"TRUNC(E249*D249, 0)","v":0},null,{"$f":"TRUNC(G249*D249, 0)","v":0},null,{"$f":"TRUNC(I249*D249, 0)","v":0},0,0,null,"5021F176D4F3C3459B97FD0E341C19",null,null,"010111","T","F","F",{"$nulls":26},"0101115021F176D4F3C3459B97FD0E341C19",103]
{"$rows_empty":17}
["[ 합           계 ]",{"$nulls":4},{"$f":"SUM(F245:F266)","v":0},null,{"$f":"SUM(H245:H266)","v":0},null,{"$f":"SUM(J245:J266)","v":0},null,{"$f":"SUM(L245:L266)","v":0},null,"TOTAL"]
["010112  접수카운터 벽체공사","■건축공사",{"$nulls":14},"010112"]
["케이싱비드","아연도, 높이 12.7mm","M",3,null,{"$f":"TRUNC(E269*D269, 0)","v":0},null,{"$f":"TRUNC(G269*D269, 0)","v":0},null,{"$f":"TRUNC(I269*D269, 0)","v":0},{"$f":"TRUNC(E269+G269+I269, 0)","v":0},{"$f":"TRUNC(F269+H269+J269, 0)","v":0},null,"5021717A4CC6F31C99304A37A478C7",null,null,"010112","T","F","F",{"$nulls":26},"0101125021717A4CC6F31C99304A37A478C7",105]
["실리콘코킹","20*20, 조인트용","M",16,null,0,null,0,null,0,0,0,null,"5021817935F083CE9E1057C0C43103",null,null,"010112","T","F","F",{"$nulls":26},"0101125021817935F083CE9E1057C0C43103",106]
["각형강관설치(ㅁ-1.5T)","20*20*1.12kg, @450*450 방청P","M2",1,null,0,null,0,null,0,0,0,null,"5021A17EEC566373981D61ED049425",null,null,"010112","T","F","F",{"$nulls":26},"0101125021A17EEC566373981D61ED049425",107]
["아연도강판설치","T=1.6mm","M2",1,null,0,null,0,null,0,0,0,null,"5021A17EEC566373981D61ED0496D4",null,null,"010112","T","F","F",{"$nulls":26},"0101125021A17EEC566373981D61ED0496D4",108]
["지정마감","벽, PT-03, KCC MATT","M2",1,null,0,null,0,null,0,0,0,null,"5021E177C71223649DF3F4E4E4CAE0",null,null,"010112","T","F","F",{"$nulls":26},"0101125021E177C71223649DF3F4E4E4CAE0",109]
["지정마감","벽, PT-01, A HA331","M2",8,null,0,null,0,null,0,0,0,null,"5021E177D16E331F996D280C64B29D",null,null,"010112","T","F","F",{"$nulls":26},"0101125021E177D16E331F996D280C64B29D",110]
["석고보드면 바탕만들기","줄퍼티 노무비","M2",8,null,0,null,0,null,0,0,0,null,"5021E176D8A063E894E1EE452465A0",null,null,"010112","T","F","F",{"$nulls":26},"0101125021E176D8A063E894E1EE452465A0",111]
["철재면 바탕만들기","불순물 제거","M2",1,null,0,null,0,null,0,0,0,null,"5021E176D8A063E894E1C363849A16",null,null,"010112","T","F","F",{"$nulls":26},"0101125021E176D8A063E894E1C363849A16",112]
["지정마감","PT-02, HEXACHROME BLACK U, H=60, MDF 6T 포함","M",3,null,0,null,0,null,0,0,0,null,"5021F176572B63D39AD79088441209",null,null,"010112","T","F","F",{"$nulls":26},"0101125021F176572B63D39AD79088441209",113]
["지정마감","SH-02, R571, H=60, MDF 6T 포함","M",4,null,0,null,0,null,0,0,0,null,"5021F176572B63D39AD7908844120D",null,null,"010112","T","F","F",{"$nulls":26},"0101125021F176572B63D39AD7908844120D",114]
["석고판 나사 고정(바탕용)","벽, 석고보드(고강도),12.5T*1겹 붙임","M2",13,null,0,null,0,null,0,0,0,null,"5021F1767274134898A0CC60949F66",null,null,"010112","T","F","F",{"$nulls":26},"0101125021F1767274134898A0CC60949F66",115]
["석고판 나사 고정(바탕용)","벽, 석고보드(일반), 12.5T*2겹","M2",8,null,0,null,0,null,0,0,0,null,"5021F1767274134898A0CC60B44B11",null,null,"010112","T","F","F",{"$nulls":26},"0101125021F1767274134898A0CC60B44B11",116]
{"$rows_empty":10}
["[ 합           계 ]",{"$nulls":4},{"$f":"SUM(F269:F290)","v":0},null,{"$f":"SUM(H269:H290)","v":0},null,{"$f":"SUM(J269:J290)","v":0},null,{"$f":"SUM(L269:L290)","v":0},null,"TOTAL"]
["010113  접수카운터 천장공사","■건축공사",{"$nulls":14},"010113"]
["경량철골천정틀-300mm(BAR 간격)","M-BAR, H:1m이상. 기존슬라브용","M2",15,null,{"$f":"TRUNC(E293*D293, 0)","v":0},null,{"$f":"TRUNC(G293*D293, 0)","v":0},null,{"$f":"TRUNC(I293*D293, 0)","v":0},{"$f":"TRUNC(E293+G293+I293, 0)","v":0},0,null,"5021A17EA6DCB36F97F4B1A3B41ED9",null,null,"010113","T","F","F",{"$nulls":26},"0101135021A17EA6DCB36F97F4B1A3B41ED9",118]
["지정마감","천장, PT-01, A HA331","M2",15,null,{"$f":"TRUNC(E294*D294, 0)","v":0},null,{"$f":"TRUNC(G294*D294, 0)","v":0},null,{"$f":"TRUNC(I294*D294, 0)","v":0},0,0,null,"5021E177D16E331F996D828034CC2D",null,null,"010113","T","F","F",{"$nulls":26},"0101135021E177D16E331F996D828034CC2D",119]
["석고보드면 바탕만들기","올퍼티 천장 노무비","M2",15,null,{"$f":"TRUNC(E295*D295, 0)","v":0},null,{"$f":"TRUNC(G295*D295, 0)","v":0},null,{"$f":"TRUNC(I295*D295, 0)","v":0},0,0,null,"5021E176D8A063E894E1EE57947137",null,null,"010113","T","F","F",{"$nulls":26},"0101135021E176D8A063E894E1EE57947137",120]
["석고판 나사 고정(치장용)","천장, 석고보드(치장),12.5T*2겹 붙임","M2",15,null,{"$f":"TRUNC(E296*D296, 0)","v":0},null,{"$f":"TRUNC(G296*D296, 0)","v":0},null,{"$f":"TRUNC(I296*D296, 0)","v":0},0,0,null,"5021F1767274134B95FF18F084684B",null,null,"010113","T","F","F",{"$nulls":26},"0101135021F1767274134B95FF18F084684B",121]
["AL몰딩 설치","TZ형, 43*20*1.3mm","M",4,null,{"$f":"TRUNC(E297*D297, 0)","v":0},null,{"$f":"TRUNC(G297*D297, 0)","v":0},null,{"$f":"TRUNC(I297*D297, 0)","v":0},0,0,null,"5021F176D4F3C3459B97FD0E341C19",null,null,"010113","T","F","F",{"$nulls":26},"0101135021F176D4F3C3459B97FD0E341C19",122]
{"$rows_empty":17}
["[ 합           계 ]",{"$nulls":4},{"$f":"SUM(F293:F314)","v":0},null,{"$f":"SUM(H293:H314)","v":0},null,{"$f":"SUM(J293:J314)","v":0},null,{"$f":"SUM(L293:L314)","v":0},null,"TOTAL"]
["010114  고객대기공간 벽체공사","■건축공사",{"$nulls":14},"010114"]
["각형강관설치(ㅁ-1.5T)/이중벽","T=148, 20*20*1.12kg, @450*450 방청P","M2",43,null,{"$f":"TRUNC(E317*D317, 0)","v":0},null,{"$f":"TRUNC(G317*D317, 0)","v":0},null,{"$f":"TRUNC(I317*D317, 0)","v":0},{"$f":"TRUNC(E317+G317+I317, 0)","v":0},{"$f":"TRUNC(F317+H317+J317, 0)","v":0},null,"5021A17EEC566373981D61ED049426",null,null,"010114","T","F","F",{"$nulls":26},"0101145021A17EEC566373981D61ED049426",124]
["갈바륨강판설치","T=1.6mm","M2",56,null,0,null,0,null,0,0,0,null,"5021A17EEC566373981D61ED0496D6",null,null,"010114","T","F","F",{"$nulls":26},"0101145021A17EEC566373981D61ED0496D6",125]
["지정마감","벽, PT-01, A HA331","M2",21,null,0,null,0,null,0,0,0,null,"5021E177D16E331F996D280C64B29D",null,null,"010114","T","F","F",{"$nulls":26},"0101145021E177D16E331F996D280C64B29D",126]
["콘크리트·모르타르면 바탕만들기","노무비","M2",21,null,0,null,0,null,0,0,0,null,"5021E176D8A063E894E1F8D8A48B80",null,null,"010114","T","F","F",{"$nulls":26},"0101145021E176D8A063E894E1F8D8A48B80",127]
["지정마감","PT-02, HEXACHROME BLACK U, H=60","M",7,null,0,null,0,null,0,0,0,null,"5021F176572B63D39AD7908844120A",null,null,"010114","T","F","F",{"$nulls":26},"0101145021F176572B63D39AD7908844120A",128]
["지정마감","SH-01, RS130","M2",58,null,0,null,0,null,0,0,0,null,"5021F176572B63DB9E338FB564E45A",null,null,"010114","T","F","F",{"$nulls":26},"0101145021F176572B63DB9E338FB564E45A",129]
["지정마감","SH-02, RS71","M2",3,null,0,null,0,null,0,0,0,null,"5021F176572B63DB9E338FB564E459",null,null,"010114","T","F","F",{"$nulls":26},"0101145021F176572B63DB9E338FB564E459",130]
["지정마감","SH-03, RS51","M2",1,null,0,null,0,null,0,0,0,null,"5021F176572B63DB9E338FB564E458",null,null,"010114","T","F","F",{"$nulls":26},"0101145021F176572B63DB9E338FB564E458",131]
["지정마감","SH-04, RS57","M2",6,null,0,null,0,null,0,0,0,null,"5021F176572B63DB9E338FB564E45F",null,null,"010114","T","F","F",{"$nulls":26},"0101145021F176572B63DB9E338FB564E45F",132]
["석고판 나사 고정(바탕용)","벽, 석고보드(고강도),12.5T*1겹 붙임","M2",7,null,0,null,0,null,0,0,0,null,"5021F1767274134898A0CC60949F66",null,null,"010114","T","F","F",{"$nulls":26},"0101145021F1767274134898A0CC60949F66",133]
["벽, 합판붙임","12.0mm(합판포함)","M2",31,null,0,null,0,null,0,0,0,null,"5021F176721363319BA09A6624D3DF",null,null,"010114","T","F","F",{"$nulls":26},"0101145021F176721363319BA09A6624D3DF",134]
["화이트오크선반(5mm홈파기및모든모서리2mm트림)","600*150*35t + H10*4t 구로철판 + 도장포함","개소",8,null,0,null,0,null,0,0,0,null,"5021F1769D07834C94104894C49318",null,null,"010114","T","F","F",{"$nulls":26},"0101145021F1769D07834C94104894C49318",135]
{"$rows_empty":10}
["[ 합           계 ]",{"$nulls":4},{"$f":"SUM(F317:F338)","v":0},null,{"$f":"SUM(H317:H338)","v":0},null,{"$f":"SUM(J317:J338)","v":0},null,{"$f":"SUM(L317:L338)","v":0},null,"TOTAL"]
["010115  고객대기공간 천장공사","■건축공사",{"$nulls":14},"010115"]
["경량철골천정틀-300mm(BAR 간격)","M-BAR, H:1m이상. 기존슬라브용","M2",37,null,{"$f":"TRUNC(E341*D341, 0)","v":0},null,{"$f":"TRUNC(G341*D341, 0)","v":0},null,{"$f":"TRUNC(I341*D341, 0)","v":0},{"$f":"TRUNC(E341+G341+I341, 0)","v":0},{"$f":"TRUNC(F341+H341+J341, 0)","v":0},null,"5021A17EA6DCB36F97F4B1A3B41ED9",null,null,"010115","T","F","F",{"$nulls":26},"0101155021A17EA6DCB36F97F4B1A3B41ED9",137]
["각형강관설치(ㅁ-1.5T)","20*20*1.12kg, @450*450 방청P","M2",26,null,0,null,0,null,0,0,0,null,"5021A17EEC566373981D61ED049425",null,null,"010115","T","F","F",{"$nulls":26},"0101155021A17EEC566373981D61ED049425",138]
["아연도강판설치","T=1.6mm","M2",5,null,0,null,0,null,0,0,0,null,"5021A17EEC566373981D61ED0496D4",null,null,"010115","T","F","F",{"$nulls":26},"0101155021A17EEC566373981D61ED0496D4",139]
["지정마감","벽, PT-03, KCC MATT","M2",5,null,0,null,0,null,0,0,0,null,"5021E177C71223649DF3F4E4E4CAE0",null,null,"010115","T","F","F",{"$nulls":26},"0101155021E177C71223649DF3F4E4E4CAE0",140]
["지정마감","천장, PT-01, A HA331","M2",38,null,0,null,0,null,0,0,0,null,"5021E177D16E331F996D828034CC2D",null,null,"010115","T","F","F",{"$nulls":26},"0101155021E177D16E331F996D828034CC2D",141]
["철재면 바탕만들기","불순물 제거","M2",5,null,0,null,0,null,0,0,0,null,"5021E176D8A063E894E1C363849A16",null,null,"010115","T","F","F",{"$nulls":26},"0101155021E176D8A063E894E1C363849A16",142]
["석고판 나사 고정(치장용)","천장, 석고보드(치장),12.5T*2겹 붙임","M2",38,null,0,null,0,null,0,0,0,null,"5021F1767274134B95FF18F084684B",null,null,"010115","T","F","F",{"$nulls":26},"0101155021F1767274134B95FF18F084684B",143]
["철재커텐박스(ㄷ자형)","200*200*1.2t, STL(도장 유)","M",5,null,0,null,0,null,0,0,0,null,"5021F176CA6873159D67FB50841803",null,null,"010115","T","F","F",{"$nulls":26},"0101155021F176CA6873159D67FB50841803",144]
["AL몰딩 설치","TZ형, 43*20*1.3mm","M",22,null,0,null,0,null,0,0,0,null,"5021F176D4F3C3459B97FD0E341C19",null,null,"010115","T","F","F",{"$nulls":26},"0101155021F176D4F3C3459B97FD0E341C19",145]
{"$rows_empty":13}
["[ 합           계 ]",{"$nulls":4},{"$f":"SUM(F341:F362)","v":0},null,{"$f":"SUM(H341:H362)","v":0},null,{"$f":"SUM(J341:J362)","v":0},null,{"$f":"SUM(L341:L362)","v":0},null,"TOTAL"]
["010116  복도 벽체공사","■건축공사",{"$nulls":14},"010116"]
["케이싱비드","아연도, 높이 12.7mm","M",17,null,{"$f":"TRUNC(E365*D365, 0)","v":0},null,{"$f":"TRUNC(G365*D365, 0)","v":0},null,{"$f":"TRUNC(I365*D365, 0)","v":0},{"$f":"TRUNC(E365+G365+I365, 0)","v":0},{"$f":"TRUNC(F365+H365+J365, 0)","v":0},null,"5021717A4CC6F31C99304A37A478C7",null,null,"010116","T","F","F",{"$nulls":26},"0101165021717A4CC6F31C99304A37A478C7",147]
["실리콘코킹","20*20, 조인트용","M",17,null,0,null,0,null,0,0,0,null,"5021817935F083CE9E1057C0C43103",null,null,"010116","T","F","F",{"$nulls":26},"0101165021817935F083CE9E1057C0C43103",148]
["각형강관설치(ㅁ-1.5T)","20*20*1.12kg, @450*450 방청P","M2",2,null,0,null,0,null,0,0,0,null,"5021A17EEC566373981D61ED049425",null,null,"010116","T","F","F",{"$nulls":26},"0101165021A17EEC566373981D61ED049425",149]
["아연도강판설치","T=1.6mm","M2",4,null,0,null,0,null,0,0,0,null,"5021A17EEC566373981D61ED0496D4",null,null,"010116","T","F","F",{"$nulls":26},"0101165021A17EEC566373981D61ED0496D4",150]
["지정마감","벽, PT-03, KCC MATT","M2",4,null,0,null,0,null,0,0,0,null,"5021E177C71223649DF3F4E4E4CAE0",null,null,"010116","T","F","F",{"$nulls":26},"0101165021E177C71223649DF3F4E4E4CAE0",151]
["지정마감","벽, PT-01, A HA331","M2",52,null,0,null,0,null,0,0,0,null,"5021E177D16E331F996D280C64B29D",null,null,"010116","T","F","F",{"$nulls":26},"0101165021E177D16E331F996D280C64B29D",152]
["콘크리트·모르타르면 바탕만들기","노무비","M2",1,null,0,null,0,null,0,0,0,null,"5021E176D8A063E894E1F8D8A48B80",null,null,"010116","T","F","F",{"$nulls":26},"0101165021E176D8A063E894E1F8D8A48B80",153]
["석고보드면 바탕만들기","줄퍼티 노무비","M2",51,null,0,null,0,null,0,0,0,null,"5021E176D8A063E894E1EE452465A0",null,null,"010116","T","F","F",{"$nulls":26},"0101165021E176D8A063E894E1EE452465A0",154]
["철재면 바탕만들기","불순물 제거","M2",4,null,0,null,0,null,0,0,0,null,"5021E176D8A063E894E1C363849A16",null,null,"010116","T","F","F",{"$nulls":26},"0101165021E176D8A063E894E1C363849A16",155]
["지정마감","PT-02, HEXACHROME BLACK U, H=60, MDF 6T 포함","M",17,null,0,null,0,null,0,0,0,null,"5021F176572B63D39AD79088441209",null,null,"010116","T","F","F",{"$nulls":26},"0101165021F176572B63D39AD79088441209",156]
["지정마감","SH-02, RS71","M2",2,null,0,null,0,null,0,0,0,null,"5021F176572B63DB9E338FB564E459",null,null,"010116","T","F","F",{"$nulls":26},"0101165021F176572B63DB9E338FB564E459",157]
["석고판 나사 고정(바탕용)","벽, 석고보드(차음),12.5T*1겹 붙임","M2",30,null,0,null,0,null,0,0,0,null,"5021F1767274134898A0CC60949F67",null,null,"010116","T","F","F",{"$nulls":26},"0101165021F1767274134898A0CC60949F67",158]
["석고판 나사 고정(치장용)","벽, 석고보드(일반), 12.5T*2겹","M2",47,null,0,null,0,null,0,0,0,null,"5021F1767274134898A0CC60B44A0F",null,null,"010116","T","F","F",{"$nulls":26},"0101165021F1767274134898A0CC60B44A0F",159]
["석고판 나사 고정(치장용)","벽, 석고보드(차음), 12.5T*2겹","M2",18,null,0,null,0,null,0,0,0,null,"5021F1767274134898A0CC60B44A09",null,null,"010116","T","F","F",{"$nulls":26},"0101165021F1767274134898A0CC60B44A09",160]
{"$rows_empty":8}
["[ 합           계 ]",{"$nulls":4},{"$f":"SUM(F365:F386)","v":0},null,{"$f":"SUM(H365:H386)","v":0},null,{"$f":"SUM(J365:J386)","v":0},null,{"$f":"SUM(L365:L386)","v":0},null,"TOTAL"]
["010117  복도 천장공사","■건축공사",{"$nulls":14},"010117"]
["경량철골천정틀-300mm(BAR 간격)","M-BAR, H:1m이상. 기존슬라브용","M2",56,null,{"$f":"TRUNC(E389*D389, 0)","v":0},null,{"$f":"TRUNC(G389*D389, 0)","v":0},null,{"$f":"TRUNC(I389*D389, 0)","v":0},{"$f":"TRUNC(E389+G389+I389, 0)","v":0},0,null,"5021A17EA6DCB36F97F4B1A3B41ED9",null,null,"010117","T","F","F",{"$nulls":26},"0101175021A17EA6DCB36F97F4B1A3B41ED9",162]
["지정마감","천장, PT-01, A HA331","M2",56,null,0,null,0,null,0,0,0,null,"5021E177D16E331F996D828034CC2D",null,null,"010117","T","F","F",{"$nulls":26},"0101175021E177D16E331F996D828034CC2D",163]
["석고보드면 바탕만들기","올퍼티 천장 노무비","M2",56,null,0,null,0,null,0,0,0,null,"5021E176D8A063E894E1EE57947137",null,null,"010117","T","F","F",{"$nulls":26},"0101175021E176D8A063E894E1EE57947137",164]
["석고판 나사 고정(치장용)","천장, 석고보드(치장),12.5T*2겹 붙임","M2",56,null,0,null,0,null,0,0,0,null,"5021F1767274134B95FF18F084684B",null,null,"010117","T","F","F",{"$nulls":26},"0101175021F1767274134B95FF18F084684B",165]
["철재커텐박스(ㄷ자형)","200*200*1.2t, STL(도장 유)","M",2,null,0,null,0,null,0,0,0,null,"5021F176CA6873159D67FB50841803",null,null,"010117","T","F","F",{"$nulls":26},"0101175021F176CA6873159D67FB50841803",166]
["AL몰딩 설치","TZ형, 43*20*1.3mm","M",42,null,0,null,0,null,0,0,0,null,"5021F176D4F3C3459B97FD0E341C19",null,null,"010117","T","F","F",{"$nulls":26},"0101175021F176D4F3C3459B97FD0E341C19",167]
{"$rows_empty":16}
["[ 합           계 ]",{"$nulls":4},{"$f":"SUM(F389:F410)","v":0},null,{"$f":"SUM(H389:H410)","v":0},null,{"$f":"SUM(J389:J410)","v":0},null,{"$f":"SUM(L389:L410)","v":0},null,"TOTAL"]
["010118  전북지사 벽체공사","■건축공사",{"$nulls":14},"010118"]
["케이싱비드","아연도, 높이 12.7mm","M",10,null,{"$f":"TRUNC(E413*D413, 0)","v":0},null,{"$f":"TRUNC(G413*D413, 0)","v":0},null,{"$f":"TRUNC(I413*D413, 0)","v":0},{"$f":"TRUNC(E413+G413+I413, 0)","v":0},{"$f":"TRUNC(F413+H413+J413, 0)","v":0},null,"5021717A4CC6F31C99304A37A478C7",null,null,"010118","T","F","F",{"$nulls":26},"0101185021717A4CC6F31C99304A37A478C7",169]
["실리콘코킹","20*20, 조인트용","M",10,null,0,null,0,null,0,0,0,null,"5021817935F083CE9E1057C0C43103",null,null,"010118","T","F","F",{"$nulls":26},"0101185021817935F083CE9E1057C0C43103",170]
["지정마감","벽, PT-01, A HA331","M2",53,null,0,null,0,null,0,0,0,null,"5021E177D16E331F996D280C64B29D",null,null,"010118","T","F","F",{"$nulls":26},"0101185021E177D16E331F996D280C64B29D",171]
["콘크리트·모르타르면 바탕만들기","노무비","M2",25,null,0,null,0,null,0,0,0,null,"5021E176D8A063E894E1F8D8A48B80",null,null,"010118","T","F","F",{"$nulls":26},"0101185021E176D8A063E894E1F8D8A48B80",172]
["석고보드면 바탕만들기","줄퍼티 노무비","M2",28,null,0,null,0,null,0,0,0,null,"5021E176D8A063E894E1EE452465A0",null,null,"010118","T","F","F",{"$nulls":26},"0101185021E176D8A063E894E1EE452465A0",173]
["지정마감","PT-02, HEXACHROME BLACK U, H=60, MDF 6T 포함","M",10,null,0,null,0,null,0,0,0,null,"5021F176572B63D39AD79088441209",null,null,"010118","T","F","F",{"$nulls":26},"0101185021F176572B63D39AD79088441209",174]
["지정마감","PT-02, HEXACHROME BLACK U, H=60","M",6,null,0,null,0,null,0,0,0,null,"5021F176572B63D39AD7908844120A",null,null,"010118","T","F","F",{"$nulls":26},"0101185021F176572B63D39AD7908844120A",175]
["지정마감","SH-02, RS71","M2",10,null,0,null,0,null,0,0,0,null,"5021F176572B63DB9E338FB564E459",null,null,"010118","T","F","F",{"$nulls":26},"0101185021F176572B63DB9E338FB564E459",176]
["석고판 나사 고정(바탕용)","벽, 석고보드(일반),12.5T*1겹 붙임","M2",14,null,0,null,0,null,0,0,0,null,"5021F1767274134898A0CC60949F65",null,null,"010118","T","F","F",{"$nulls":26},"0101185021F1767274134898A0CC60949F65",177]
["석고판 나사 고정(치장용)","벽, 석고보드(일반), 12.5T*2겹","M2",42,null,0,null,0,null,0,0,0,null,"5021F1767274134898A0CC60B44A0F",null,null,"010118","T","F","F",{"$nulls":26},"0101185021F1767274134898A0CC60B44A0F",178]
{"$rows_empty":12}
["[ 합           계 ]",{"$nulls":4},{"$f":"SUM(F413:F434)","v":0},null,{"$f":"SUM(H413:H434)","v":0},null,{"$f":"SUM(J413:J434)","v":0},null,{"$f":"SUM(L413:L434)","v":0},null,"TOTAL"]
["010119  전북지사 천장공사","■건축공사",{"$nulls":14},"010119"]
["경량철골천정틀-300mm(BAR 간격)","T-BAR, H:1m미만, 기존슬라브용","M2",112,null,{"$f":"TRUNC(E437*D437, 0)","v":0},null,{"$f":"TRUNC(G437*D437, 0)","v":0},null,{"$f":"TRUNC(I437*D437, 0)","v":0},{"$f":"TRUNC(E437+G437+I437, 0)","v":0},0,null,"5021A17EA6DCB36F97EA48C5748FB9",null,null,"010119","T","F","F",{"$nulls":26},"0101195021A17EA6DCB36F97EA48C5748FB9",180]
["각형강관설치(ㅁ-1.5T)","20*20*1.12kg, @450*450 방청P","M2",19,null,0,null,0,null,0,0,0,null,"5021A17EEC566373981D61ED049425",null,null,"010119","T","F","F",{"$nulls":26},"0101195021A17EEC566373981D61ED049425",181]
["아연도강판설치","T=1.6mm","M2",1,null,0,null,0,null,0,0,0,null,"5021A17EEC566373981D61ED0496D4",null,null,"010119","T","F","F",{"$nulls":26},"0101195021A17EEC566373981D61ED0496D4",182]
["지정마감","벽, PT-03, KCC MATT","M2",1,null,0,null,0,null,0,0,0,null,"5021E177C71223649DF3F4E4E4CAE0",null,null,"010119","T","F","F",{"$nulls":26},"0101195021E177C71223649DF3F4E4E4CAE0",183]
["철재면 바탕만들기","불순물 제거","M2",1,null,0,null,0,null,0,0,0,null,"5021E176D8A063E894E1C363849A16",null,null,"010119","T","F","F",{"$nulls":26},"0101195021E176D8A063E894E1C363849A16",184]
["지정마감","TEX-01, 603*603*15t","M2",112,null,0,null,0,null,0,0,0,null,"5021F1767248932698C2732AE4A444",null,null,"010119","T","F","F",{"$nulls":26},"0101195021F1767248932698C2732AE4A444",185]
["철재커텐박스(ㄷ자형)","200*200*1.2t, STL(도장 유)","M",11,null,0,null,0,null,0,0,0,null,"5021F176CA6873159D67FB50841803",null,null,"010119","T","F","F",{"$nulls":26},"0101195021F176CA6873159D67FB50841803",186]
["AL몰딩 설치","TZ형, 43*20*1.3mm","M",33,null,0,null,0,null,0,0,0,null,"5021F176D4F3C3459B97FD0E341C19",null,null,"010119","T","F","F",{"$nulls":26},"0101195021F176D4F3C3459B97FD0E341C19",187]
{"$rows_empty":14}
["[ 합           계 ]",{"$nulls":4},{"$f":"SUM(F437:F458)","v":0},null,{"$f":"SUM(H437:H458)","v":0},null,{"$f":"SUM(J437:J458)","v":0},null,{"$f":"SUM(L437:L458)","v":0},null,"TOTAL"]
["010120  지사장실 벽체공사","■건축공사",{"$nulls":14},"010120"]
["케이싱비드","아연도, 높이 12.7mm","M",2,null,{"$f":"TRUNC(E461*D461, 0)","v":0},null,{"$f":"TRUNC(G461*D461, 0)","v":0},null,{"$f":"TRUNC(I461*D461, 0)","v":0},{"$f":"TRUNC(E461+G461+I461, 0)","v":0},{"$f":"TRUNC(F461+H461+J461, 0)","v":0},null,"5021717A4CC6F31C99304A37A478C7",null,null,"010120","T","F","F",{"$nulls":26},"0101205021717A4CC6F31C99304A37A478C7",189]
["실리콘코킹","20*20, 조인트용","M",2,null,0,null,0,null,0,0,0,null,"5021817935F083CE9E1057C0C43103",null,null,"010120","T","F","F",{"$nulls":26},"0101205021817935F083CE9E1057C0C43103",190]
["지정마감","벽, PT-01, A HA331","M2",25,null,0,null,0,null,0,0,0,null,"5021E177D16E331F996D280C64B29D",null,null,"010120","T","F","F",{"$nulls":26},"0101205021E177D16E331F996D280C64B29D",191]
["콘크리트·모르타르면 바탕만들기","노무비","M2",20,null,0,null,0,null,0,0,0,null,"5021E176D8A063E894E1F8D8A48B80",null,null,"010120","T","F","F",{"$nulls":26},"0101205021E176D8A063E894E1F8D8A48B80",192]
["석고보드면 바탕만들기","줄퍼티 노무비","M2",5,null,0,null,0,null,0,0,0,null,"5021E176D8A063E894E1EE452465A0",null,null,"010120","T","F","F",{"$nulls":26},"0101205021E176D8A063E894E1EE452465A0",193]
["지정마감","PT-02, HEXACHROME BLACK U, H=60, MDF 6T 포함","M",2,null,0,null,0,null,0,0,0,null,"5021F176572B63D39AD79088441209",null,null,"010120","T","F","F",{"$nulls":26},"0101205021F176572B63D39AD79088441209",194]
["지정마감","SH-02, RS71","M2",9,null,0,null,0,null,0,0,0,null,"5021F176572B63DB9E338FB564E459",null,null,"010120","T","F","F",{"$nulls":26},"0101205021F176572B63DB9E338FB564E459",195]
["석고판 나사 고정(바탕용)","벽, 석고보드(일반),12.5T*1겹 붙임","M2",17,null,0,null,0,null,0,0,0,null,"5021F1767274134898A0CC60949F65",null,null,"010120","T","F","F",{"$nulls":26},"0101205021F1767274134898A0CC60949F65",196]
["석고판 나사 고정(치장용)","벽, 석고보드(일반), 12.5T*2겹","M2",7,null,0,null,0,null,0,0,0,null,"5021F1767274134898A0CC60B44A0F",null,null,"010120","T","F","F",{"$nulls":26},"0101205021F1767274134898A0CC60B44A0F",197]
{"$rows_empty":13}
["[ 합           계 ]",{"$nulls":4},{"$f":"SUM(F461:F482)","v":0},null,{"$f":"SUM(H461:H482)","v":0},null,{"$f":"SUM(J461:J482)","v":0},null,{"$f":"SUM(L461:L482)","v":0},null,"TOTAL"]
["010121  지사장실 천장공사","■건축공사",{"$nulls":14},"010121"]
["경량철골천정틀-300mm(BAR 간격)","T-BAR, H:1m미만, 기존슬라브용","M2",38,null,{"$f":"TRUNC(E485*D485, 0)","v":0},null,{"$f":"TRUNC(G485*D485, 0)","v":0},null,{"$f":"TRUNC(I485*D485, 0)","v":0},{"$f":"TRUNC(E485+G485+I485, 0)","v":0},0,null,"5021A17EA6DCB36F97EA48C5748FB9",null,null,"010121","T","F","F",{"$nulls":26},"0101215021A17EA6DCB36F97EA48C5748FB9",199]
["지정마감","TEX-01, 603*603*15t","M2",38,null,{"$f":"TRUNC(E486*D486, 0)","v":0},null,{"$f":"TRUNC(G486*D486, 0)","v":0},null,{"$f":"TRUNC(I486*D486, 0)","v":0},0,0,null,"5021F1767248932698C2732AE4A444",null,null,"010121","T","F","F",{"$nulls":26},"0101215021F1767248932698C2732AE4A444",200]
["철재커텐박스(ㄷ자형)","200*200*1.2t, STL(도장 유)","M",4,null,{"$f":"TRUNC(E487*D487, 0)","v":0},null,{"$f":"TRUNC(G487*D487, 0)","v":0},null,{"$f":"TRUNC(I487*D487, 0)","v":0},0,0,null,"5021F176CA6873159D67FB50841803",null,null,"010121","T","F","F",{"$nulls":26},"0101215021F176CA6873159D67FB50841803",201]
["AL몰딩 설치","TZ형, 43*20*1.3mm","M",26,null,{"$f":"TRUNC(E488*D488, 0)","v":0},null,{"$f":"TRUNC(G488*D488, 0)","v":0},null,{"$f":"TRUNC(I488*D488, 0)","v":0},0,0,null,"5021F176D4F3C3459B97FD0E341C19",null,null,"010121","T","F","F",{"$nulls":26},"0101215021F176D4F3C3459B97FD0E341C19",202]
{"$rows_empty":18}
["[ 합           계 ]",{"$nulls":4},{"$f":"SUM(F485:F506)","v":0},null,{"$f":"SUM(H485:H506)","v":0},null,{"$f":"SUM(J485:J506)","v":0},null,{"$f":"SUM(L485:L506)","v":0},null,"TOTAL"]
["010122  상담실#1 벽체공사","■건축공사",{"$nulls":14},"010122"]
["케이싱비드","아연도, 높이 12.7mm","M",9,null,{"$f":"TRUNC(E509*D509, 0)","v":0},null,{"$f":"TRUNC(G509*D509, 0)","v":0},null,{"$f":"TRUNC(I509*D509, 0)","v":0},{"$f":"TRUNC(E509+G509+I509, 0)","v":0},{"$f":"TRUNC(F509+H509+J509, 0)","v":0},null,"5021717A4CC6F31C99304A37A478C7",null,null,"010122","T","F","F",{"$nulls":26},"0101225021717A4CC6F31C99304A37A478C7",204]
["실리콘코킹","20*20, 조인트용","M",9,null,0,null,0,null,0,0,0,null,"5021817935F083CE9E1057C0C43103",null,null,"010122","T","F","F",{"$nulls":26},"0101225021817935F083CE9E1057C0C43103",205]
["벽체틀 설치","30*30, @450*600","M2",25,null,0,null,0,null,0,0,0,null,"5021917FE93583169E4E6534A472C9",null,null,"010122","T","F","F",{"$nulls":26},"0101225021917FE93583169E4E6534A472C9",206]
["지정마감","PT-02, HEXACHROME BLACK U, H=60, MDF 6T 포함","M",9,null,0,null,0,null,0,0,0,null,"5021F176572B63D39AD79088441209",null,null,"010122","T","F","F",{"$nulls":26},"0101225021F176572B63D39AD79088441209",207]
["석고판 나사 고정(바탕용)","벽, 석고보드(차음),12.5T*1겹 붙임","M2",38,null,0,null,0,null,0,0,0,null,"5021F1767274134898A0CC60949F67",null,null,"010122","T","F","F",{"$nulls":26},"0101225021F1767274134898A0CC60949F67",208]
["석고판 나사 고정(바탕용)","벽, 석고보드(차음), 12.5T*2겹","M2",4,null,0,null,0,null,0,0,0,null,"5021F1767274134898A0CC60B44B10",null,null,"010122","T","F","F",{"$nulls":26},"0101225021F1767274134898A0CC60B44B10",209]
["벽, 합판붙임","6.0mm(합판포함)","M2",25,null,0,null,0,null,0,0,0,null,"5021F176721363319BA09A6604264B",null,null,"010122","T","F","F",{"$nulls":26},"0101225021F176721363319BA09A6604264B",210]
["그라스울보온재설치","벽, 25T 24K, 고정핀포함","M2",25,null,0,null,0,null,0,0,0,null,"5021F1760F4D43AC9A022EAED44263",null,null,"010122","T","F","F",{"$nulls":26},"0101225021F1760F4D43AC9A022EAED44263",211]
["독립스터드라이닝시스템","석고계유공흡음보드 12.5T","M2",25,null,0,null,0,null,0,0,0,null,"5021F1769D07834C9422B9D1744D33",null,null,"010122","T","F","F",{"$nulls":26},"0101225021F1769D07834C9422B9D1744D33",212]
["지정마감","FB-02, Oatmeal","M2",25,null,0,null,0,null,0,0,0,null,"5021F1769D07834C9422B9D1744C2A",null,null,"010122","T","F","F",{"$nulls":26},"0101225021F1769D07834C9422B9D1744C2A",213]
{"$rows_empty":12}
["[ 합           계 ]",{"$nulls":4},{"$f":"SUM(F509:F530)","v":0},null,{"$f":"SUM(H509:H530)","v":0},null,{"$f":"SUM(J509:J530)","v":0},null,{"$f":"SUM(L509:L530)","v":0},null,"TOTAL"]
["010123  상담실#1 천장공사","■건축공사",{"$nulls":14},"010123"]
["경량철골천정틀-300mm(BAR 간격)","M-BAR, H:1m이상. 기존슬라브용","M2",8,null,{"$f":"TRUNC(E533*D533, 0)","v":0},null,{"$f":"TRUNC(G533*D533, 0)","v":0},null,{"$f":"TRUNC(I533*D533, 0)","v":0},{"$f":"TRUNC(E533+G533+I533, 0)","v":0},0,null,"5021A17EA6DCB36F97F4B1A3B41ED9",null,null,"010123","T","F","F",{"$nulls":26},"0101235021A17EA6DCB36F97F4B1A3B41ED9",215]
["지정마감","천장, PT-01, A HA331","M2",8,null,0,null,0,null,0,0,0,null,"5021E177D16E331F996D828034CC2D",null,null,"010123","T","F","F",{"$nulls":26},"0101235021E177D16E331F996D828034CC2D",216]
["석고판 나사 고정(바탕용)","천장, 석고보드(일반),12.5T*1겹 붙임","M2",3,null,0,null,0,null,0,0,0,null,"5021F1767274134B95FF18F0A41501",null,null,"010123","T","F","F",{"$nulls":26},"0101235021F1767274134B95FF18F0A41501",217]
["지정마감","TEX-02, 아트사운드 SR6-8","M2",5,null,0,null,0,null,0,0,0,null,"5021F1767274134B95FF18F0846848",null,null,"010123","T","F","F",{"$nulls":26},"0101235021F1767274134B95FF18F0846848",218]
["그라스울보온재설치","천장, 50T 48K, 고정핀포함","M2",5,null,0,null,0,null,0,0,0,null,"5021F1760F4D43AC9A022EAED44261",null,null,"010123","T","F","F",{"$nulls":26},"0101235021F1760F4D43AC9A022EAED44261",219]
["AL몰딩 설치","TZ형, 43*20*1.3mm","M",11,null,0,null,0,null,0,0,0,null,"5021F176D4F3C3459B97FD0E341C19",null,null,"010123","T","F","F",{"$nulls":26},"0101235021F176D4F3C3459B97FD0E341C19",220]
{"$rows_empty":16}
["[ 합           계 ]",{"$nulls":4},{"$f":"SUM(F533:F554)","v":0},null,{"$f":"SUM(H533:H554)","v":0},null,{"$f":"SUM(J533:J554)","v":0},null,{"$f":"SUM(L533:L554)","v":0},null,"TOTAL"]
["010124  상담실#2 벽체공사","■건축공사",{"$nulls":14},"010124"]
["케이싱비드","아연도, 높이 12.7mm","M",9,null,{"$f":"TRUNC(E557*D557, 0)","v":0},null,{"$f":"TRUNC(G557*D557, 0)","v":0},null,{"$f":"TRUNC(I557*D557, 0)","v":0},{"$f":"TRUNC(E557+G557+I557, 0)","v":0},{"$f":"TRUNC(F557+H557+J557, 0)","v":0},null,"5021717A4CC6F31C99304A37A478C7",null,null,"010124","T","F","F",{"$nulls":26},"0101245021717A4CC6F31C99304A37A478C7",222]
["실리콘코킹","20*20, 조인트용","M",9,null,0,null,0,null,0,0,0,null,"5021817935F083CE9E1057C0C43103",null,null,"010124","T","F","F",{"$nulls":26},"0101245021817935F083CE9E1057C0C43103",223]
["벽체틀 설치","30*30, @450*600","M2",25,null,0,null,0,null,0,0,0,null,"5021917FE93583169E4E6534A472C9",null,null,"010124","T","F","F",{"$nulls":26},"0101245021917FE93583169E4E6534A472C9",224]
["지정마감","PT-02, HEXACHROME BLACK U, H=60, MDF 6T 포함","M",9,null,0,null,0,null,0,0,0,null,"5021F176572B63D39AD79088441209",null,null,"010124","T","F","F",{"$nulls":26},"0101245021F176572B63D39AD79088441209",225]
["석고판 나사 고정(바탕용)","벽, 석고보드(차음),12.5T*1겹 붙임","M2",38,null,0,null,0,null,0,0,0,null,"5021F1767274134898A0CC60949F67",null,null,"010124","T","F","F",{"$nulls":26},"0101245021F1767274134898A0CC60949F67",226]
["석고판 나사 고정(바탕용)","벽, 석고보드(차음), 12.5T*2겹","M2",4,null,0,null,0,null,0,0,0,null,"5021F1767274134898A0CC60B44B10",null,null,"010124","T","F","F",{"$nulls":26},"0101245021F1767274134898A0CC60B44B10",227]
["벽, 합판붙임","6.0mm(합판포함)","M2",25,null,0,null,0,null,0,0,0,null,"5021F176721363319BA09A6604264B",null,null,"010124","T","F","F",{"$nulls":26},"0101245021F176721363319BA09A6604264B",228]
["그라스울보온재설치","벽, 25T 24K, 고정핀포함","M2",25,null,0,null,0,null,0,0,0,null,"5021F1760F4D43AC9A022EAED44263",null,null,"010124","T","F","F",{"$nulls":26},"0101245021F1760F4D43AC9A022EAED44263",229]
["독립스터드라이닝시스템","석고계유공흡음보드 12.5T","M2",25,null,0,null,0,null,0,0,0,null,"5021F1769D07834C9422B9D1744D33",null,null,"010124","T","F","F",{"$nulls":26},"0101245021F1769D07834C9422B9D1744D33",230]
["지정마감","FB-02, Oatmeal","M2",25,null,0,null,0,null,0,0,0,null,"5021F1769D07834C9422B9D1744C2A",null,null,"010124","T","F","F",{"$nulls":26},"0101245021F1769D07834C9422B9D1744C2A",231]
{"$rows_empty":12}
["[ 합           계 ]",{"$nulls":4},{"$f":"SUM(F557:F578)","v":0},null,{"$f":"SUM(H557:H578)","v":0},null,{"$f":"SUM(J557:J578)","v":0},null,{"$f":"SUM(L557:L578)","v":0},null,"TOTAL"]
["010125  상담실#2 천장공사","■건축공사",{"$nulls":14},"010125"]
["경량철골천정틀-300mm(BAR 간격)","M-BAR, H:1m이상. 기존슬라브용","M2",8,null,{"$f":"TRUNC(E581*D581, 0)","v":0},null,{"$f":"TRUNC(G581*D581, 0)","v":0},null,{"$f":"TRUNC(I581*D581, 0)","v":0},{"$f":"TRUNC(E581+G581+I581, 0)","v":0},0,null,"5021A17EA6DCB36F97F4B1A3B41ED9",null,null,"010125","T","F","F",{"$nulls":26},"0101255021A17EA6DCB36F97F4B1A3B41ED9",233]
["지정마감","천장, PT-01, A HA331","M2",8,null,0,null,0,null,0,0,0,null,"5021E177D16E331F996D828034CC2D",null,null,"010125","T","F","F",{"$nulls":26},"0101255021E177D16E331F996D828034CC2D",234]
["석고판 나사 고정(바탕용)","천장, 석고보드(일반),12.5T*1겹 붙임","M2",3,null,0,null,0,null,0,0,0,null,"5021F1767274134B95FF18F0A41501",null,null,"010125","T","F","F",{"$nulls":26},"0101255021F1767274134B95FF18F0A41501",235]
["지정마감","TEX-02, 아트사운드 SR6-8","M2",5,null,0,null,0,null,0,0,0,null,"5021F1767274134B95FF18F0846848",null,null,"010125","T","F","F",{"$nulls":26},"0101255021F1767274134B95FF18F0846848",236]
["그라스울보온재설치","천장, 50T 48K, 고정핀포함","M2",5,null,0,null,0,null,0,0,0,null,"5021F1760F4D43AC9A022EAED44261",null,null,"010125","T","F","F",{"$nulls":26},"0101255021F1760F4D43AC9A022EAED44261",237]
["AL몰딩 설치","TZ형, 43*20*1.3mm","M",11,null,0,null,0,null,0,0,0,null,"5021F176D4F3C3459B97FD0E341C19",null,null,"010125","T","F","F",{"$nulls":26},"0101255021F176D4F3C3459B97FD0E341C19",238]
{"$rows_empty":16}
["[ 합           계 ]",{"$nulls":4},{"$f":"SUM(F581:F602)","v":0},null,{"$f":"SUM(H581:H602)","v":0},null,{"$f":"SUM(J581:J602)","v":0},null,{"$f":"SUM(L581:L602)","v":0},null,"TOTAL"]
["010126  연금상담실#1 벽체공사","■건축공사",{"$nulls":14},"010126"]
["케이싱비드","아연도, 높이 12.7mm","M",9,null,{"$f":"TRUNC(E605*D605, 0)","v":0},null,{"$f":"TRUNC(G605*D605, 0)","v":0},null,{"$f":"TRUNC(I605*D605, 0)","v":0},{"$f":"TRUNC(E605+G605+I605, 0)","v":0},{"$f":"TRUNC(F605+H605+J605, 0)","v":0},null,"5021717A4CC6F31C99304A37A478C7",null,null,"010126","T","F","F",{"$nulls":26},"0101265021717A4CC6F31C99304A37A478C7",240]
["실리콘코킹","20*20, 조인트용","M",9,null,0,null,0,null,0,0,0,null,"5021817935F083CE9E1057C0C43103",null,null,"010126","T","F","F",{"$nulls":26},"0101265021817935F083CE9E1057C0C43103",241]
["벽체틀 설치","30*30, @450*600","M2",25,null,0,null,0,null,0,0,0,null,"5021917FE93583169E4E6534A472C9",null,null,"010126","T","F","F",{"$nulls":26},"0101265021917FE93583169E4E6534A472C9",242]
["지정마감","PT-02, HEXACHROME BLACK U, H=60, MDF 6T 포함","M",9,null,0,null,0,null,0,0,0,null,"5021F176572B63D39AD79088441209",null,null,"010126","T","F","F",{"$nulls":26},"0101265021F176572B63D39AD79088441209",243]
["석고판 나사 고정(바탕용)","벽, 석고보드(차음),12.5T*1겹 붙임","M2",38,null,0,null,0,null,0,0,0,null,"5021F1767274134898A0CC60949F67",null,null,"010126","T","F","F",{"$nulls":26},"0101265021F1767274134898A0CC60949F67",244]
["석고판 나사 고정(바탕용)","벽, 석고보드(차음), 12.5T*2겹","M2",4,null,0,null,0,null,0,0,0,null,"5021F1767274134898A0CC60B44B10",null,null,"010126","T","F","F",{"$nulls":26},"0101265021F1767274134898A0CC60B44B10",245]
["벽, 합판붙임","6.0mm(합판포함)","M2",25,null,0,null,0,null,0,0,0,null,"5021F176721363319BA09A6604264B",null,null,"010126","T","F","F",{"$nulls":26},"0101265021F176721363319BA09A6604264B",246]
["그라스울보온재설치","벽, 25T 24K, 고정핀포함","M2",25,null,0,null,0,null,0,0,0,null,"5021F1760F4D43AC9A022EAED44263",null,null,"010126","T","F","F",{"$nulls":26},"0101265021F1760F4D43AC9A022EAED44263",247]
["독립스터드라이닝시스템","석고계유공흡음보드 12.5T","M2",25,null,0,null,0,null,0,0,0,null,"5021F1769D07834C9422B9D1744D33",null,null,"010126","T","F","F",{"$nulls":26},"0101265021F1769D07834C9422B9D1744D33",248]
["지정마감","FB-02, Oatmeal","M2",25,null,0,null,0,null,0,0,0,null,"5021F1769D07834C9422B9D1744C2A",null,null,"010126","T","F","F",{"$nulls":26},"0101265021F1769D07834C9422B9D1744C2A",249]
{"$rows_empty":12}
["[ 합           계 ]",{"$nulls":4},{"$f":"SUM(F605:F626)","v":0},null,{"$f":"SUM(H605:H626)","v":0},null,{"$f":"SUM(J605:J626)","v":0},null,{"$f":"SUM(L605:L626)","v":0},null,"TOTAL"]
["010127  연금상담실#1 천장공사","■건축공사",{"$nulls":14},"010127"]
["경량철골천정틀-300mm(BAR 간격)","M-BAR, H:1m이상. 기존슬라브용","M2",8,null,{"$f":"TRUNC(E629*D629, 0)","v":0},null,{"$f":"TRUNC(G629*D629, 0)","v":0},null,{"$f":"TRUNC(I629*D629, 0)","v":0},{"$f":"TRUNC(E629+G629+I629, 0)","v":0},0,null,"5021A17EA6DCB36F97F4B1A3B41ED9",null,null,"010127","T","F","F",{"$nulls":26},"0101275021A17EA6DCB36F97F4B1A3B41ED9",251]
["지정마감","천장, PT-01, A HA331","M2",8,null,0,null,0,null,0,0,0,null,"5021E177D16E331F996D828034CC2D",null,null,"010127","T","F","F",{"$nulls":26},"0101275021E177D16E331F996D828034CC2D",252]
["석고판 나사 고정(바탕용)","천장, 석고보드(일반),12.5T*1겹 붙임","M2",3,null,0,null,0,null,0,0,0,null,"5021F1767274134B95FF18F0A41501",null,null,"010127","T","F","F",{"$nulls":26},"0101275021F1767274134B95FF18F0A41501",253]
["지정마감","TEX-02, 아트사운드 SR6-8","M2",5,null,0,null,0,null,0,0,0,null,"5021F1767274134B95FF18F0846848",null,null,"010127","T","F","F",{"$nulls":26},"0101275021F1767274134B95FF18F0846848",254]
["그라스울보온재설치","천장, 50T 48K, 고정핀포함","M2",5,null,0,null,0,null,0,0,0,null,"5021F1760F4D43AC9A022EAED44261",null,null,"010127","T","F","F",{"$nulls":26},"0101275021F1760F4D43AC9A022EAED44261",255]
["AL몰딩 설치","TZ형, 43*20*1.3mm","M",11,null,0,null,0,null,0,0,0,null,"5021F176D4F3C3459B97FD0E341C19",null,null,"010127","T","F","F",{"$nulls":26},"0101275021F176D4F3C3459B97FD0E341C19",256]
{"$rows_empty":16}
["[ 합           계 ]",{"$nulls":4},{"$f":"SUM(F629:F650)","v":0},null,{"$f":"SUM(H629:H650)","v":0},null,{"$f":"SUM(J629:J650)","v":0},null,{"$f":"SUM(L629:L650)","v":0},null,"TOTAL"]
["010128  연금상담실#2 벽체공사","■건축공사",{"$nulls":14},"010128"]
["케이싱비드","아연도, 높이 12.7mm","M",6,null,{"$f":"TRUNC(E653*D653, 0)","v":0},null,{"$f":"TRUNC(G653*D653, 0)","v":0},null,{"$f":"TRUNC(I653*D653, 0)","v":0},{"$f":"TRUNC(E653+G653+I653, 0)","v":0},{"$f":"TRUNC(F653+H653+J653, 0)","v":0},null,"5021717A4CC6F31C99304A37A478C7",null,null,"010128","T","F","F",{"$nulls":26},"0101285021717A4CC6F31C99304A37A478C7",258]
["실리콘코킹","20*20, 조인트용","M",6,null,0,null,0,null,0,0,0,null,"5021817935F083CE9E1057C0C43103",null,null,"010128","T","F","F",{"$nulls":26},"0101285021817935F083CE9E1057C0C43103",259]
["벽체틀 설치","30*30, @450*600","M2",16,null,0,null,0,null,0,0,0,null,"5021917FE93583169E4E6534A472C9",null,null,"010128","T","F","F",{"$nulls":26},"0101285021917FE93583169E4E6534A472C9",260]
["지정마감","벽, PT-01, A HA331","M2",3,null,0,null,0,null,0,0,0,null,"5021E177D16E331F996D280C64B29D",null,null,"010128","T","F","F",{"$nulls":26},"0101285021E177D16E331F996D280C64B29D",261]
["콘크리트·모르타르면 바탕만들기","노무비","M2",3,null,0,null,0,null,0,0,0,null,"5021E176D8A063E894E1F8D8A48B80",null,null,"010128","T","F","F",{"$nulls":26},"0101285021E176D8A063E894E1F8D8A48B80",262]
["지정마감","PT-02, HEXACHROME BLACK U, H=60, MDF 6T 포함","M",6,null,0,null,0,null,0,0,0,null,"5021F176572B63D39AD79088441209",null,null,"010128","T","F","F",{"$nulls":26},"0101285021F176572B63D39AD79088441209",264]
["지정마감","SH-02, RS71","M2",2,null,0,null,0,null,0,0,0,null,"5021F176572B63DB9E338FB564E459",null,null,"010128","T","F","F",{"$nulls":26},"0101285021F176572B63DB9E338FB564E459",265]
["석고판 나사 고정(바탕용)","벽, 석고보드(차음),12.5T*1겹 붙임","M2",24,null,0,null,0,null,0,0,0,null,"5021F1767274134898A0CC60949F67",null,null,"010128","T","F","F",{"$nulls":26},"0101285021F1767274134898A0CC60949F67",266]
["석고판 나사 고정(바탕용)","벽, 석고보드(차음), 12.5T*2겹","M2",4,null,0,null,0,null,0,0,0,null,"5021F1767274134898A0CC60B44B10",null,null,"010128","T","F","F",{"$nulls":26},"0101285021F1767274134898A0CC60B44B10",267]
["석고판 나사 고정(치장용)","벽, 석고보드(차음), 12.5T*2겹","M2",2,null,0,null,0,null,0,0,0,null,"5021F1767274134898A0CC60B44A09",null,null,"010128","T","F","F",{"$nulls":26},"0101285021F1767274134898A0CC60B44A09",268]
["벽, 합판붙임","6.0mm(합판포함)","M2",16,null,0,null,0,null,0,0,0,null,"5021F176721363319BA09A6604264B",null,null,"010128","T","F","F",{"$nulls":26},"0101285021F176721363319BA09A6604264B",269]
["그라스울보온재설치","벽, 25T 24K, 고정핀포함","M2",16,null,0,null,0,null,0,0,0,null,"5021F1760F4D43AC9A022EAED44263",null,null,"010128","T","F","F",{"$nulls":26},"0101285021F1760F4D43AC9A022EAED44263",270]
["독립스터드라이닝시스템","석고계유공흡음보드 12.5T","M2",16,null,0,null,0,null,0,0,0,null,"5021F1769D07834C9422B9D1744D33",null,null,"010128","T","F","F",{"$nulls":26},"0101285021F1769D07834C9422B9D1744D33",271]
["지정마감","FB-02, Oatmeal","M2",18,null,0,null,0,null,0,0,0,null,"5021F1769D07834C9422B9D1744C2A",null,null,"010128","T","F","F",{"$nulls":26},"0101285021F1769D07834C9422B9D1744C2A",272]
{"$rows_empty":8}
["[ 합           계 ]",{"$nulls":4},{"$f":"SUM(F653:F674)","v":0},null,{"$f":"SUM(H653:H674)","v":0},null,{"$f":"SUM(J653:J674)","v":0},null,{"$f":"SUM(L653:L674)","v":0},null,"TOTAL"]
["010129  연금상담실#2 천장공사","■건축공사",{"$nulls":14},"010129"]
["경량철골천정틀-300mm(BAR 간격)","M-BAR, H:1m이상. 기존슬라브용","M2",10,null,{"$f":"TRUNC(E677*D677, 0)","v":0},null,{"$f":"TRUNC(G677*D677, 0)","v":0},null,{"$f":"TRUNC(I677*D677, 0)","v":0},{"$f":"TRUNC(E677+G677+I677, 0)","v":0},0,null,"5021A17EA6DCB36F97F4B1A3B41ED9",null,null,"010129","T","F","F",{"$nulls":26},"0101295021A17EA6DCB36F97F4B1A3B41ED9",274]
["지정마감","천장, PT-01, A HA331","M2",10,null,0,null,0,null,0,0,0,null,"5021E177D16E331F996D828034CC2D",null,null,"010129","T","F","F",{"$nulls":26},"0101295021E177D16E331F996D828034CC2D",275]
["석고판 나사 고정(바탕용)","천장, 석고보드(일반),12.5T*1겹 붙임","M2",4,null,0,null,0,null,0,0,0,null,"5021F1767274134B95FF18F0A41501",null,null,"010129","T","F","F",{"$nulls":26},"0101295021F1767274134B95FF18F0A41501",276]
["지정마감","TEX-02, 아트사운드 SR6-8","M2",5,null,0,null,0,null,0,0,0,null,"5021F1767274134B95FF18F0846848",null,null,"010129","T","F","F",{"$nulls":26},"0101295021F1767274134B95FF18F0846848",277]
["그라스울보온재설치","천장, 50T 48K, 고정핀포함","M2",5,null,0,null,0,null,0,0,0,null,"5021F1760F4D43AC9A022EAED44261",null,null,"010129","T","F","F",{"$nulls":26},"0101295021F1760F4D43AC9A022EAED44261",278]
["철재커텐박스(ㄷ자형)","200*200*1.2t, STL(도장 유)","M",2,null,0,null,0,null,0,0,0,null,"5021F176CA6873159D67FB50841803",null,null,"010129","T","F","F",{"$nulls":26},"0101295021F176CA6873159D67FB50841803",279]
["AL몰딩 설치","TZ형, 43*20*1.3mm","M",13,null,0,null,0,null,0,0,0,null,"5021F176D4F3C3459B97FD0E341C19",null,null,"010129","T","F","F",{"$nulls":26},"0101295021F176D4F3C3459B97FD0E341C19",280]
{"$rows_empty":15}
["[ 합           계 ]",{"$nulls":4},{"$f":"SUM(F677:F698)","v":0},null,{"$f":"SUM(H677:H698)","v":0},null,{"$f":"SUM(J677:J698)","v":0},null,{"$f":"SUM(L677:L698)","v":0},null,"TOTAL"]
["010130  EDMS 벽체공사","■건축공사",{"$nulls":14},"010130"]
["케이싱비드","아연도, 높이 12.7mm","M",7,null,{"$f":"TRUNC(E701*D701, 0)","v":0},null,{"$f":"TRUNC(G701*D701, 0)","v":0},null,{"$f":"TRUNC(I701*D701, 0)","v":0},{"$f":"TRUNC(E701+G701+I701, 0)","v":0},0,null,"5021717A4CC6F31C99304A37A478C7",null,null,"010130","T","F","F",{"$nulls":26},"0101305021717A4CC6F31C99304A37A478C7",282]
["실리콘코킹","20*20, 조인트용","M",7,null,0,null,0,null,0,0,0,null,"5021817935F083CE9E1057C0C43103",null,null,"010130","T","F","F",{"$nulls":26},"0101305021817935F083CE9E1057C0C43103",283]
["지정마감","벽, PT-01, A HA331","M2",17,null,0,null,0,null,0,0,0,null,"5021E177D16E331F996D280C64B29D",null,null,"010130","T","F","F",{"$nulls":26},"0101305021E177D16E331F996D280C64B29D",284]
["석고보드면 바탕만들기","줄퍼티 노무비","M2",17,null,0,null,0,null,0,0,0,null,"5021E176D8A063E894E1EE452465A0",null,null,"010130","T","F","F",{"$nulls":26},"0101305021E176D8A063E894E1EE452465A0",285]
["지정마감","PT-02, HEXACHROME BLACK U, H=60, MDF 6T 포함","M",7,null,0,null,0,null,0,0,0,null,"5021F176572B63D39AD79088441209",null,null,"010130","T","F","F",{"$nulls":26},"0101305021F176572B63D39AD79088441209",286]
["석고판 나사 고정(치장용)","벽, 석고보드(일반), 12.5T*2겹","M2",17,null,0,null,0,null,0,0,0,null,"5021F1767274134898A0CC60B44A0F",null,null,"010130","T","F","F",{"$nulls":26},"0101305021F1767274134898A0CC60B44A0F",287]
{"$rows_empty":16}
["[ 합           계 ]",{"$nulls":4},{"$f":"SUM(F701:F722)","v":0},null,{"$f":"SUM(H701:H722)","v":0},null,{"$f":"SUM(J701:J722)","v":0},null,{"$f":"SUM(L701:L722)","v":0},null,"TOTAL"]
["010131  EDMS 천장공사","■건축공사",{"$nulls":14},"010131"]
["경량철골천정틀-300mm(BAR 간격)","M-BAR, H:1m이상. 기존슬라브용","M2",4,null,{"$f":"TRUNC(E725*D725, 0)","v":0},null,{"$f":"TRUNC(G725*D725, 0)","v":0},null,{"$f":"TRUNC(I725*D725, 0)","v":0},{"$f":"TRUNC(E725+G725+I725, 0)","v":0},0,null,"5021A17EA6DCB36F97F4B1A3B41ED9",null,null,"010131","T","F","F",{"$nulls":26},"0101315021A17EA6DCB36F97F4B1A3B41ED9",289]
["지정마감","천장, PT-01, A HA331","M2",4,null,{"$f":"TRUNC(E726*D726, 0)","v":0},null,{"$f":"TRUNC(G726*D726, 0)","v":0},null,{"$f":"TRUNC(I726*D726, 0)","v":0},0,0,null,"5021E177D16E331F996D828034CC2D",null,null,"010131","T","F","F",{"$nulls":26},"0101315021E177D16E331F996D828034CC2D",290]
["석고보드면 바탕만들기","올퍼티 천장 노무비","M2",4,null,{"$f":"TRUNC(E727*D727, 0)","v":0},null,{"$f":"TRUNC(G727*D727, 0)","v":0},null,{"$f":"TRUNC(I727*D727, 0)","v":0},0,0,null,"5021E176D8A063E894E1EE57947137",null,null,"010131","T","F","F",{"$nulls":26},"0101315021E176D8A063E894E1EE57947137",291]
["석고판 나사 고정(치장용)","천장, 석고보드(치장),12.5T*2겹 붙임","M2",4,null,{"$f":"TRUNC(E728*D728, 0)","v":0},null,{"$f":"TRUNC(G728*D728, 0)","v":0},null,{"$f":"TRUNC(I728*D728, 0)","v":0},0,0,null,"5021F1767274134B95FF18F084684B",null,null,"010131","T","F","F",{"$nulls":26},"0101315021F1767274134B95FF18F084684B",292]
["AL몰딩 설치","TZ형, 43*20*1.3mm","M",7,null,{"$f":"TRUNC(E729*D729, 0)","v":0},null,{"$f":"TRUNC(G729*D729, 0)","v":0},null,{"$f":"TRUNC(I729*D729, 0)","v":0},0,0,null,"5021F176D4F3C3459B97FD0E341C19",null,null,"010131","T","F","F",{"$nulls":26},"0101315021F176D4F3C3459B97FD0E341C19",293]
{"$rows_empty":17}
["[ 합           계 ]",{"$nulls":4},{"$f":"SUM(F725:F746)","v":0},null,{"$f":"SUM(H725:H746)","v":0},null,{"$f":"SUM(J725:J746)","v":0},null,{"$f":"SUM(L725:L746)","v":0},null,"TOTAL"]
["010132  OA실 벽체공사","■건축공사",{"$nulls":14},"010132"]
["케이싱비드","아연도, 높이 12.7mm","M",9,null,{"$f":"TRUNC(E749*D749, 0)","v":0},null,{"$f":"TRUNC(G749*D749, 0)","v":0},null,{"$f":"TRUNC(I749*D749, 0)","v":0},{"$f":"TRUNC(E749+G749+I749, 0)","v":0},0,null,"5021717A4CC6F31C99304A37A478C7",null,null,"010132","T","F","F",{"$nulls":26},"0101325021717A4CC6F31C99304A37A478C7",295]
["실리콘코킹","20*20, 조인트용","M",9,null,0,null,0,null,0,0,0,null,"5021817935F083CE9E1057C0C43103",null,null,"010132","T","F","F",{"$nulls":26},"0101325021817935F083CE9E1057C0C43103",296]
["지정마감","벽, PT-01, A HA331","M2",22,null,0,null,0,null,0,0,0,null,"5021E177D16E331F996D280C64B29D",null,null,"010132","T","F","F",{"$nulls":26},"0101325021E177D16E331F996D280C64B29D",297]
["석고보드면 바탕만들기","줄퍼티 노무비","M2",22,null,0,null,0,null,0,0,0,null,"5021E176D8A063E894E1EE452465A0",null,null,"010132","T","F","F",{"$nulls":26},"0101325021E176D8A063E894E1EE452465A0",298]
["지정마감","PT-02, HEXACHROME BLACK U, H=60, MDF 6T 포함","M",9,null,0,null,0,null,0,0,0,null,"5021F176572B63D39AD79088441209",null,null,"010132","T","F","F",{"$nulls":26},"0101325021F176572B63D39AD79088441209",299]
["석고판 나사 고정(치장용)","벽, 석고보드(일반), 12.5T*2겹","M2",22,null,0,null,0,null,0,0,0,null,"5021F1767274134898A0CC60B44A0F",null,null,"010132","T","F","F",{"$nulls":26},"0101325021F1767274134898A0CC60B44A0F",300]
{"$rows_empty":16}
["[ 합           계 ]",{"$nulls":4},{"$f":"SUM(F749:F770)","v":0},null,{"$f":"SUM(H749:H770)","v":0},null,{"$f":"SUM(J749:J770)","v":0},null,{"$f":"SUM(L749:L770)","v":0},null,"TOTAL"]
["010133  OA실 천장공사","■건축공사",{"$nulls":14},"010133"]
["경량철골천정틀-300mm(BAR 간격)","M-BAR, H:1m이상. 기존슬라브용","M2",7,null,{"$f":"TRUNC(E773*D773, 0)","v":0},null,{"$f":"TRUNC(G773*D773, 0)","v":0},null,{"$f":"TRUNC(I773*D773, 0)","v":0},{"$f":"TRUNC(E773+G773+I773, 0)","v":0},0,null,"5021A17EA6DCB36F97F4B1A3B41ED9",null,null,"010133","T","F","F",{"$nulls":26},"0101335021A17EA6DCB36F97F4B1A3B41ED9",302]
["지정마감","천장, PT-01, A HA331","M2",7,null,{"$f":"TRUNC(E774*D774, 0)","v":0},null,{"$f":"TRUNC(G774*D774, 0)","v":0},null,{"$f":"TRUNC(I774*D774, 0)","v":0},0,0,null,"5021E177D16E331F996D828034CC2D",null,null,"010133","T","F","F",{"$nulls":26},"0101335021E177D16E331F996D828034CC2D",303]
["석고보드면 바탕만들기","올퍼티 천장 노무비","M2",7,null,{"$f":"TRUNC(E775*D775, 0)","v":0},null,{"$f":"TRUNC(G775*D775, 0)","v":0},null,{"$f":"TRUNC(I775*D775, 0)","v":0},0,0,null,"5021E176D8A063E894E1EE57947137",null,null,"010133","T","F","F",{"$nulls":26},"0101335021E176D8A063E894E1EE57947137",304]
["석고판 나사 고정(치장용)","천장, 석고보드(치장),12.5T*2겹 붙임","M2",7,null,{"$f":"TRUNC(E776*D776, 0)","v":0},null,{"$f":"TRUNC(G776*D776, 0)","v":0},null,{"$f":"TRUNC(I776*D776, 0)","v":0},0,0,null,"5021F1767274134B95FF18F084684B",null,null,"010133","T","F","F",{"$nulls":26},"0101335021F1767274134B95FF18F084684B",305]
["AL몰딩 설치","TZ형, 43*20*1.3mm","M",9,null,{"$f":"TRUNC(E777*D777, 0)","v":0},null,{"$f":"TRUNC(G777*D777, 0)","v":0},null,{"$f":"TRUNC(I777*D777, 0)","v":0},0,0,null,"5021F176D4F3C3459B97FD0E341C19",null,null,"010133","T","F","F",{"$nulls":26},"0101335021F176D4F3C3459B97FD0E341C19",306]
{"$rows_empty":17}
["[ 합           계 ]",{"$nulls":4},{"$f":"SUM(F773:F794)","v":0},null,{"$f":"SUM(H773:H794)","v":0},null,{"$f":"SUM(J773:J794)","v":0},null,{"$f":"SUM(L773:L794)","v":0},null,"TOTAL"]
["010134  탕비실 벽체공사","■건축공사",{"$nulls":14},"010134"]
["케이싱비드","아연도, 높이 12.7mm","M",9,null,{"$f":"TRUNC(E797*D797, 0)","v":0},null,{"$f":"TRUNC(G797*D797, 0)","v":0},null,{"$f":"TRUNC(I797*D797, 0)","v":0},{"$f":"TRUNC(E797+G797+I797, 0)","v":0},0,null,"5021717A4CC6F31C99304A37A478C7",null,null,"010134","T","F","F",{"$nulls":26},"0101345021717A4CC6F31C99304A37A478C7",308]
["실리콘코킹","20*20, 조인트용","M",9,null,0,null,0,null,0,0,0,null,"5021817935F083CE9E1057C0C43103",null,null,"010134","T","F","F",{"$nulls":26},"0101345021817935F083CE9E1057C0C43103",309]
["지정마감","벽, PT-01, A HA331","M2",20,null,0,null,0,null,0,0,0,null,"5021E177D16E331F996D280C64B29D",null,null,"010134","T","F","F",{"$nulls":26},"0101345021E177D16E331F996D280C64B29D",310]
["석고보드면 바탕만들기","줄퍼티 노무비","M2",20,null,0,null,0,null,0,0,0,null,"5021E176D8A063E894E1EE452465A0",null,null,"010134","T","F","F",{"$nulls":26},"0101345021E176D8A063E894E1EE452465A0",311]
["지정마감","PT-02, HEXACHROME BLACK U, H=60, MDF 6T 포함","M",9,null,0,null,0,null,0,0,0,null,"5021F176572B63D39AD79088441209",null,null,"010134","T","F","F",{"$nulls":26},"0101345021F176572B63D39AD79088441209",312]
["석고판 나사 고정(치장용)","벽, 석고보드(일반), 12.5T*2겹","M2",20,null,0,null,0,null,0,0,0,null,"5021F1767274134898A0CC60B44A0F",null,null,"010134","T","F","F",{"$nulls":26},"0101345021F1767274134898A0CC60B44A0F",313]
["석고판 나사 고정(치장용)","벽, 석고보드(차음), 12.5T*2겹","M2",8,null,0,null,0,null,0,0,0,null,"5021F1767274134898A0CC60B44A09",null,null,"010134","T","F","F",{"$nulls":26},"0101345021F1767274134898A0CC60B44A09",314]
["벽, 합판붙임","6.0mm(합판포함)","M2",2,null,0,null,0,null,0,0,0,null,"5021F176721363319BA09A6604264B",null,null,"010134","T","F","F",{"$nulls":26},"0101345021F176721363319BA09A6604264B",315]
{"$rows_empty":14}
["[ 합           계 ]",{"$nulls":4},{"$f":"SUM(F797:F818)","v":0},null,{"$f":"SUM(H797:H818)","v":0},null,{"$f":"SUM(J797:J818)","v":0},null,{"$f":"SUM(L797:L818)","v":0},null,"TOTAL"]
["010135  탕비실 천장공사","■건축공사",{"$nulls":14},"010135"]
["경량철골천정틀-300mm(BAR 간격)","M-BAR, H:1m이상. 기존슬라브용","M2",8,null,{"$f":"TRUNC(E821*D821, 0)","v":0},null,{"$f":"TRUNC(G821*D821, 0)","v":0},null,{"$f":"TRUNC(I821*D821, 0)","v":0},{"$f":"TRUNC(E821+G821+I821, 0)","v":0},0,null,"5021A17EA6DCB36F97F4B1A3B41ED9",null,null,"010135","T","F","F",{"$nulls":26},"0101355021A17EA6DCB36F97F4B1A3B41ED9",317]
["지정마감","천장, PT-01, A HA331","M2",8,null,{"$f":"TRUNC(E822*D822, 0)","v":0},null,{"$f":"TRUNC(G822*D822, 0)","v":0},null,{"$f":"TRUNC(I822*D822, 0)","v":0},0,0,null,"5021E177D16E331F996D828034CC2D",null,null,"010135","T","F","F",{"$nulls":26},"0101355021E177D16E331F996D828034CC2D",318]
["석고보드면 바탕만들기","올퍼티 천장 노무비","M2",8,null,{"$f":"TRUNC(E823*D823, 0)","v":0},null,{"$f":"TRUNC(G823*D823, 0)","v":0},null,{"$f":"TRUNC(I823*D823, 0)","v":0},0,0,null,"5021E176D8A063E894E1EE57947137",null,null,"010135","T","F","F",{"$nulls":26},"0101355021E176D8A063E894E1EE57947137",319]
["석고판 나사 고정(치장용)","천장, 석고보드(치장),12.5T*2겹 붙임","M2",8,null,{"$f":"TRUNC(E824*D824, 0)","v":0},null,{"$f":"TRUNC(G824*D824, 0)","v":0},null,{"$f":"TRUNC(I824*D824, 0)","v":0},0,0,null,"5021F1767274134B95FF18F084684B",null,null,"010135","T","F","F",{"$nulls":26},"0101355021F1767274134B95FF18F084684B",320]
["AL몰딩 설치","TZ형, 43*20*1.3mm","M",9,null,{"$f":"TRUNC(E825*D825, 0)","v":0},null,{"$f":"TRUNC(G825*D825, 0)","v":0},null,{"$f":"TRUNC(I825*D825, 0)","v":0},0,0,null,"5021F176D4F3C3459B97FD0E341C19",null,null,"010135","T","F","F",{"$nulls":26},"0101355021F176D4F3C3459B97FD0E341C19",321]
{"$rows_empty":17}
["[ 합           계 ]",{"$nulls":4},{"$f":"SUM(F821:F842)","v":0},null,{"$f":"SUM(H821:H842)","v":0},null,{"$f":"SUM(J821:J842)","v":0},null,{"$f":"SUM(L821:L842)","v":0},null,"TOTAL"]
["010136  휴게실 벽체공사","■건축공사",{"$nulls":14},"010136"]
["케이싱비드","아연도, 높이 12.7mm","M",6,null,{"$f":"TRUNC(E845*D845, 0)","v":0},null,{"$f":"TRUNC(G845*D845, 0)","v":0},null,{"$f":"TRUNC(I845*D845, 0)","v":0},{"$f":"TRUNC(E845+G845+I845, 0)","v":0},0,null,"5021717A4CC6F31C99304A37A478C7",null,null,"010136","T","F","F",{"$nulls":26},"0101365021717A4CC6F31C99304A37A478C7",323]
["실리콘코킹","20*20, 조인트용","M",6,null,0,null,0,null,0,0,0,null,"5021817935F083CE9E1057C0C43103",null,null,"010136","T","F","F",{"$nulls":26},"0101365021817935F083CE9E1057C0C43103",324]
["지정마감","벽, PT-01, A HA331","M2",19,null,0,null,0,null,0,0,0,null,"5021E177D16E331F996D280C64B29D",null,null,"010136","T","F","F",{"$nulls":26},"0101365021E177D16E331F996D280C64B29D",325]
["석고보드면 바탕만들기","줄퍼티 노무비","M2",19,null,0,null,0,null,0,0,0,null,"5021E176D8A063E894E1EE452465A0",null,null,"010136","T","F","F",{"$nulls":26},"0101365021E176D8A063E894E1EE452465A0",326]
["지정마감","PT-02, HEXACHROME BLACK U, H=60, MDF 6T 포함","M",6,null,0,null,0,null,0,0,0,null,"5021F176572B63D39AD79088441209",null,null,"010136","T","F","F",{"$nulls":26},"0101365021F176572B63D39AD79088441209",327]
["지정마감","SH-02, RS71","M2",2,null,0,null,0,null,0,0,0,null,"5021F176572B63DB9E338FB564E459",null,null,"010136","T","F","F",{"$nulls":26},"0101365021F176572B63DB9E338FB564E459",328]
["석고판 나사 고정(치장용)","벽, 석고보드(일반), 12.5T*2겹","M2",12,null,0,null,0,null,0,0,0,null,"5021F1767274134898A0CC60B44A0F",null,null,"010136","T","F","F",{"$nulls":26},"0101365021F1767274134898A0CC60B44A0F",329]
["석고판 나사 고정(치장용)","벽, 석고보드(차음), 12.5T*2겹","M2",10,null,0,null,0,null,0,0,0,null,"5021F1767274134898A0CC60B44A09",null,null,"010136","T","F","F",{"$nulls":26},"0101365021F1767274134898A0CC60B44A09",330]
{"$rows_empty":14}
["[ 합           계 ]",{"$nulls":4},{"$f":"SUM(F845:F866)","v":0},null,{"$f":"SUM(H845:H866)","v":0},null,{"$f":"SUM(J845:J866)","v":0},null,{"$f":"SUM(L845:L866)","v":0},null,"TOTAL"]
["010137  휴게실 천장공사","■건축공사",{"$nulls":14},"010137"]
["경량철골천정틀-300mm(BAR 간격)","M-BAR, H:1m이상. 기존슬라브용","M2",8,null,{"$f":"TRUNC(E869*D869, 0)","v":0},null,{"$f":"TRUNC(G869*D869, 0)","v":0},null,{"$f":"TRUNC(I869*D869, 0)","v":0},{"$f":"TRUNC(E869+G869+I869, 0)","v":0},0,null,"5021A17EA6DCB36F97F4B1A3B41ED9",null,null,"010137","T","F","F",{"$nulls":26},"0101375021A17EA6DCB36F97F4B1A3B41ED9",332]
["지정마감","천장, PT-01, A HA331","M2",8,null,{"$f":"TRUNC(E870*D870, 0)","v":0},null,{"$f":"TRUNC(G870*D870, 0)","v":0},null,{"$f":"TRUNC(I870*D870, 0)","v":0},0,0,null,"5021E177D16E331F996D828034CC2D",null,null,"010137","T","F","F",{"$nulls":26},"0101375021E177D16E331F996D828034CC2D",333]
["석고판 나사 고정(치장용)","천장, 석고보드(치장),12.5T*2겹 붙임","M2",8,null,{"$f":"TRUNC(E871*D871, 0)","v":0},null,{"$f":"TRUNC(G871*D871, 0)","v":0},null,{"$f":"TRUNC(I871*D871, 0)","v":0},0,0,null,"5021F1767274134B95FF18F084684B",null,null,"010137","T","F","F",{"$nulls":26},"0101375021F1767274134B95FF18F084684B",334]
["철재커텐박스(ㄷ자형)","200*200*1.2t, STL(도장 유)","M",2,null,{"$f":"TRUNC(E872*D872, 0)","v":0},null,{"$f":"TRUNC(G872*D872, 0)","v":0},null,{"$f":"TRUNC(I872*D872, 0)","v":0},0,0,null,"5021F176CA6873159D67FB50841803",null,null,"010137","T","F","F",{"$nulls":26},"0101375021F176CA6873159D67FB50841803",335]
["AL몰딩 설치","TZ형, 43*20*1.3mm","M",11,null,{"$f":"TRUNC(E873*D873, 0)","v":0},null,{"$f":"TRUNC(G873*D873, 0)","v":0},null,{"$f":"TRUNC(I873*D873, 0)","v":0},0,0,null,"5021F176D4F3C3459B97FD0E341C19",null,null,"010137","T","F","F",{"$nulls":26},"0101375021F176D4F3C3459B97FD0E341C19",336]
{"$rows_empty":17}
["[ 합           계 ]",{"$nulls":4},{"$f":"SUM(F869:F890)","v":0},null,{"$f":"SUM(H869:H890)","v":0},null,{"$f":"SUM(J869:J890)","v":0},null,{"$f":"SUM(L869:L890)","v":0},null,"TOTAL"]
["010138  고객편의공간 벽체공사","■건축공사",{"$nulls":14},"010138"]
["케이싱비드","아연도, 높이 12.7mm","M",10,null,{"$f":"TRUNC(E893*D893, 0)","v":0},null,{"$f":"TRUNC(G893*D893, 0)","v":0},null,{"$f":"TRUNC(I893*D893, 0)","v":0},{"$f":"TRUNC(E893+G893+I893, 0)","v":0},{"$f":"TRUNC(F893+H893+J893, 0)","v":0},null,"5021717A4CC6F31C99304A37A478C7",null,null,"010138","T","F","F",{"$nulls":26},"0101385021717A4CC6F31C99304A37A478C7",338]
["실리콘코킹","20*20, 조인트용","M",10,null,0,null,0,null,0,0,0,null,"5021817935F083CE9E1057C0C43103",null,null,"010138","T","F","F",{"$nulls":26},"0101385021817935F083CE9E1057C0C43103",339]
["벽체틀 설치","30*30, @450*600","M2",8,null,0,null,0,null,0,0,0,null,"5021917FE93583169E4E6534A472C9",null,null,"010138","T","F","F",{"$nulls":26},"0101385021917FE93583169E4E6534A472C9",340]
["지정마감","벽, PT-01, A HA331","M2",29,null,0,null,0,null,0,0,0,null,"5021E177D16E331F996D280C64B29D",null,null,"010138","T","F","F",{"$nulls":26},"0101385021E177D16E331F996D280C64B29D",341]
["석고보드면 바탕만들기","줄퍼티 노무비","M2",22,null,0,null,0,null,0,0,0,null,"5021E176D8A063E894E1EE452465A0",null,null,"010138","T","F","F",{"$nulls":26},"0101385021E176D8A063E894E1EE452465A0",342]
["지정마감","PT-02, HEXACHROME BLACK U, H=60, MDF 6T 포함","M",10,null,0,null,0,null,0,0,0,null,"5021F176572B63D39AD79088441209",null,null,"010138","T","F","F",{"$nulls":26},"0101385021F176572B63D39AD79088441209",343]
["석고판 나사 고정(바탕용)","벽, 석고보드(차음),12.5T*1겹 붙임","M2",19,null,0,null,0,null,0,0,0,null,"5021F1767274134898A0CC60949F67",null,null,"010138","T","F","F",{"$nulls":26},"0101385021F1767274134898A0CC60949F67",344]
["석고판 나사 고정(치장용)","벽, 석고보드(일반), 12.5T*2겹","M2",30,null,0,null,0,null,0,0,0,null,"5021F1767274134898A0CC60B44A0F",null,null,"010138","T","F","F",{"$nulls":26},"0101385021F1767274134898A0CC60B44A0F",345]
["그라스울보온재설치","벽, 50T 24K, 고정핀포함","M2",8,null,0,null,0,null,0,0,0,null,"5021F1760F4D43AC9A022EAED44260",null,null,"010138","T","F","F",{"$nulls":26},"0101385021F1760F4D43AC9A022EAED44260",346]
{"$rows_empty":13}
["[ 합           계 ]",{"$nulls":4},{"$f":"SUM(F893:F914)","v":0},null,{"$f":"SUM(H893:H914)","v":0},null,{"$f":"SUM(J893:J914)","v":0},null,{"$f":"SUM(L893:L914)","v":0},null,"TOTAL"]
["010139  고객편의공간 천장공사","■건축공사",{"$nulls":14},"010139"]
["경량철골천정틀-300mm(BAR 간격)","M-BAR, H:1m이상. 기존슬라브용","M2",7,null,{"$f":"TRUNC(E917*D917, 0)","v":0},null,{"$f":"TRUNC(G917*D917, 0)","v":0},null,{"$f":"TRUNC(I917*D917, 0)","v":0},{"$f":"TRUNC(E917+G917+I917, 0)","v":0},0,null,"5021A17EA6DCB36F97F4B1A3B41ED9",null,null,"010139","T","F","F",{"$nulls":26},"0101395021A17EA6DCB36F97F4B1A3B41ED9",348]
["지정마감","천장, PT-01, A HA331","M2",7,null,{"$f":"TRUNC(E918*D918, 0)","v":0},null,{"$f":"TRUNC(G918*D918, 0)","v":0},null,{"$f":"TRUNC(I918*D918, 0)","v":0},0,0,null,"5021E177D16E331F996D828034CC2D",null,null,"010139","T","F","F",{"$nulls":26},"0101395021E177D16E331F996D828034CC2D",349]
["석고판 나사 고정(치장용)","천장, 석고보드(치장),12.5T*2겹 붙임","M2",7,null,{"$f":"TRUNC(E919*D919, 0)","v":0},null,{"$f":"TRUNC(G919*D919, 0)","v":0},null,{"$f":"TRUNC(I919*D919, 0)","v":0},0,0,null,"5021F1767274134B95FF18F084684B",null,null,"010139","T","F","F",{"$nulls":26},"0101395021F1767274134B95FF18F084684B",350]
["AL몰딩 설치","TZ형, 43*20*1.3mm","M",10,null,{"$f":"TRUNC(E920*D920, 0)","v":0},null,{"$f":"TRUNC(G920*D920, 0)","v":0},null,{"$f":"TRUNC(I920*D920, 0)","v":0},0,0,null,"5021F176D4F3C3459B97FD0E341C19",null,null,"010139","T","F","F",{"$nulls":26},"0101395021F176D4F3C3459B97FD0E341C19",351]
{"$rows_empty":18}
["[ 합           계 ]",{"$nulls":4},{"$f":"SUM(F917:F938)","v":0},null,{"$f":"SUM(H917:H938)","v":0},null,{"$f":"SUM(J917:J938)","v":0},null,{"$f":"SUM(L917:L938)","v":0},null,"TOTAL"]
["010140  회의실 벽체공사","■건축공사",{"$nulls":14},"010140"]
["케이싱비드","아연도, 높이 12.7mm","M",22,null,{"$f":"TRUNC(E941*D941, 0)","v":0},null,{"$f":"TRUNC(G941*D941, 0)","v":0},null,{"$f":"TRUNC(I941*D941, 0)","v":0},{"$f":"TRUNC(E941+G941+I941, 0)","v":0},{"$f":"TRUNC(F941+H941+J941, 0)","v":0},null,"5021717A4CC6F31C99304A37A478C7",null,null,"010140","T","F","F",{"$nulls":26},"0101405021717A4CC6F31C99304A37A478C7",353]
["실리콘코킹","20*20, 조인트용","M",22,null,0,null,0,null,0,0,0,null,"5021817935F083CE9E1057C0C43103",null,null,"010140","T","F","F",{"$nulls":26},"0101405021817935F083CE9E1057C0C43103",354]
["벽체틀 설치","30*30, @450*600","M2",64,null,0,null,0,null,0,0,0,null,"5021917FE93583169E4E6534A472C9",null,null,"010140","T","F","F",{"$nulls":26},"0101405021917FE93583169E4E6534A472C9",355]
["지정마감(컬러스테인리스)","MT-01 Bead BK","M2",1,null,0,null,0,null,0,0,0,null,"5021C1732300B3439D9E925184E9F0",null,null,"010140","T","F","F",{"$nulls":26},"0101405021C1732300B3439D9E925184E9F0",356]
["지정마감","PT-02, HEXACHROME BLACK U, H=60, MDF 6T 포함","M",22,null,0,null,0,null,0,0,0,null,"5021F176572B63D39AD79088441209",null,null,"010140","T","F","F",{"$nulls":26},"0101405021F176572B63D39AD79088441209",357]
["석고판 나사 고정(바탕용)","벽, 석고보드(차음),12.5T*1겹 붙임","M2",57,null,0,null,0,null,0,0,0,null,"5021F1767274134898A0CC60949F67",null,null,"010140","T","F","F",{"$nulls":26},"0101405021F1767274134898A0CC60949F67",358]
["석고판 나사 고정(바탕용)","벽, 석고보드(차음), 12.5T*2겹","M2",31,null,0,null,0,null,0,0,0,null,"5021F1767274134898A0CC60B44B10",null,null,"010140","T","F","F",{"$nulls":26},"0101405021F1767274134898A0CC60B44B10",359]
["벽, 합판붙임","6.0mm(합판포함)","M2",64,null,0,null,0,null,0,0,0,null,"5021F176721363319BA09A6604264B",null,null,"010140","T","F","F",{"$nulls":26},"0101405021F176721363319BA09A6604264B",360]
["그라스울보온재설치","벽, 25T 24K, 고정핀포함","M2",64,null,0,null,0,null,0,0,0,null,"5021F1760F4D43AC9A022EAED44263",null,null,"010140","T","F","F",{"$nulls":26},"0101405021F1760F4D43AC9A022EAED44263",361]
["독립스터드라이닝시스템","석고계유공흡음보드 12.5T","M2",53,null,0,null,0,null,0,0,0,null,"5021F1769D07834C9422B9D1744D33",null,null,"010140","T","F","F",{"$nulls":26},"0101405021F1769D07834C9422B9D1744D33",362]
["지정마감","FB-01, Lime Grey","M2",53,null,0,null,0,null,0,0,0,null,"5021F1769D07834C9422B9D1744C2B",null,null,"010140","T","F","F",{"$nulls":26},"0101405021F1769D07834C9422B9D1744C2B",363]
{"$rows_empty":11}
["[ 합           계 ]",{"$nulls":4},{"$f":"SUM(F941:F962)","v":0},null,{"$f":"SUM(H941:H962)","v":0},null,{"$f":"SUM(J941:J962)","v":0},null,{"$f":"SUM(L941:L962)","v":0},null,"TOTAL"]
["010141  회의실 천장공사","■건축공사",{"$nulls":14},"010141"]
["경량철골천정틀-300mm(BAR 간격)","M-BAR, H:1m이상. 기존슬라브용","M2",31,null,{"$f":"TRUNC(E965*D965, 0)","v":0},null,{"$f":"TRUNC(G965*D965, 0)","v":0},null,{"$f":"TRUNC(I965*D965, 0)","v":0},{"$f":"TRUNC(E965+G965+I965, 0)","v":0},{"$f":"TRUNC(F965+H965+J965, 0)","v":0},null,"5021A17EA6DCB36F97F4B1A3B41ED9",null,null,"010141","T","F","F",{"$nulls":26},"0101415021A17EA6DCB36F97F4B1A3B41ED9",365]
["각형강관설치(ㅁ-1.5T)","20*20*1.12kg, @450*450 방청P","M2",17,null,0,null,0,null,0,0,0,null,"5021A17EEC566373981D61ED049425",null,null,"010141","T","F","F",{"$nulls":26},"0101415021A17EEC566373981D61ED049425",366]
["아연도강판설치","T=1.6mm","M2",2,null,0,null,0,null,0,0,0,null,"5021A17EEC566373981D61ED0496D4",null,null,"010141","T","F","F",{"$nulls":26},"0101415021A17EEC566373981D61ED0496D4",367]
["지정마감","벽, PT-03, KCC MATT","M2",2,null,0,null,0,null,0,0,0,null,"5021E177C71223649DF3F4E4E4CAE0",null,null,"010141","T","F","F",{"$nulls":26},"0101415021E177C71223649DF3F4E4E4CAE0",368]
["지정마감","천장, PT-01, A HA331","M2",31,null,0,null,0,null,0,0,0,null,"5021E177D16E331F996D828034CC2D",null,null,"010141","T","F","F",{"$nulls":26},"0101415021E177D16E331F996D828034CC2D",369]
["철재면 바탕만들기","불순물 제거","M2",2,null,0,null,0,null,0,0,0,null,"5021E176D8A063E894E1C363849A16",null,null,"010141","T","F","F",{"$nulls":26},"0101415021E176D8A063E894E1C363849A16",370]
["석고판 나사 고정(바탕용)","천장, 석고보드(일반),12.5T*1겹 붙임","M2",22,null,0,null,0,null,0,0,0,null,"5021F1767274134B95FF18F0A41501",null,null,"010141","T","F","F",{"$nulls":26},"0101415021F1767274134B95FF18F0A41501",371]
["지정마감","TEX-02, 아트사운드 SR6-8","M2",9,null,0,null,0,null,0,0,0,null,"5021F1767274134B95FF18F0846848",null,null,"010141","T","F","F",{"$nulls":26},"0101415021F1767274134B95FF18F0846848",372]
["그라스울보온재설치","천장, 50T 48K, 고정핀포함","M2",9,null,0,null,0,null,0,0,0,null,"5021F1760F4D43AC9A022EAED44261",null,null,"010141","T","F","F",{"$nulls":26},"0101415021F1760F4D43AC9A022EAED44261",373]
["AL몰딩 설치","TZ형, 43*20*1.3mm","M",24,null,0,null,0,null,0,0,0,null,"5021F176D4F3C3459B97FD0E341C19",null,null,"010141","T","F","F",{"$nulls":26},"0101415021F176D4F3C3459B97FD0E341C19",374]
{"$rows_empty":12}
["[ 합           계 ]",{"$nulls":4},{"$f":"SUM(F965:F986)","v":0},null,{"$f":"SUM(H965:H986)","v":0},null,{"$f":"SUM(J965:J986)","v":0},null,{"$f":"SUM(L965:L986)","v":0},null,"TOTAL"]
["010142  창고 벽체공사","■건축공사",{"$nulls":14},"010142"]
["케이싱비드","아연도, 높이 12.7mm","M",20,null,{"$f":"TRUNC(E989*D989, 0)","v":0},null,{"$f":"TRUNC(G989*D989, 0)","v":0},null,{"$f":"TRUNC(I989*D989, 0)","v":0},{"$f":"TRUNC(E989+G989+I989, 0)","v":0},0,null,"5021717A4CC6F31C99304A37A478C7",null,null,"010142","T","F","F",{"$nulls":26},"0101425021717A4CC6F31C99304A37A478C7",376]
["실리콘코킹","20*20, 조인트용","M",15,null,0,null,0,null,0,0,0,null,"5021817935F083CE9E1057C0C43103",null,null,"010142","T","F","F",{"$nulls":26},"0101425021817935F083CE9E1057C0C43103",377]
["벽체틀 설치","30*30, @450*600","M2",12,null,0,null,0,null,0,0,0,null,"5021917FE93583169E4E6534A472C9",null,null,"010142","T","F","F",{"$nulls":26},"0101425021917FE93583169E4E6534A472C9",378]
["지정마감","벽, PT-01, A HA331","M2",60,null,0,null,0,null,0,0,0,null,"5021E177D16E331F996D280C64B29D",null,null,"010142","T","F","F",{"$nulls":26},"0101425021E177D16E331F996D280C64B29D",379]
["석고보드면 바탕만들기","줄퍼티 노무비","M2",60,null,0,null,0,null,0,0,0,null,"5021E176D8A063E894E1EE452465A0",null,null,"010142","T","F","F",{"$nulls":26},"0101425021E176D8A063E894E1EE452465A0",380]
["지정마감","PT-02, HEXACHROME BLACK U, H=60, MDF 6T 포함","M",20,null,0,null,0,null,0,0,0,null,"5021F176572B63D39AD79088441209",null,null,"010142","T","F","F",{"$nulls":26},"0101425021F176572B63D39AD79088441209",381]
["석고판 나사 고정(치장용)","벽, 석고보드(일반), 12.5T*2겹","M2",64,null,0,null,0,null,0,0,0,null,"5021F1767274134898A0CC60B44A0F",null,null,"010142","T","F","F",{"$nulls":26},"0101425021F1767274134898A0CC60B44A0F",382]
{"$rows_empty":15}
["[ 합           계 ]",{"$nulls":4},{"$f":"SUM(F989:F1010)","v":0},null,{"$f":"SUM(H989:H1010)","v":0},null,{"$f":"SUM(J989:J1010)","v":0},null,{"$f":"SUM(L989:L1010)","v":0},null,"TOTAL"]
["010143  창고 천장공사","■건축공사",{"$nulls":14},"010143"]
["경량철골천정틀-300mm(BAR 간격)","T-BAR, H:1m미만, 기존슬라브용","M2",31,null,{"$f":"TRUNC(E1013*D1013, 0)","v":0},null,{"$f":"TRUNC(G1013*D1013, 0)","v":0},null,{"$f":"TRUNC(I1013*D1013, 0)","v":0},{"$f":"TRUNC(E1013+G1013+I1013, 0)","v":0},0,null,"5021A17EA6DCB36F97EA48C5748FB9",null,null,"010143","T","F","F",{"$nulls":26},"0101435021A17EA6DCB36F97EA48C5748FB9",384]
["지정마감","TEX-01, 603*603*15t","M2",31,null,{"$f":"TRUNC(E1014*D1014, 0)","v":0},null,{"$f":"TRUNC(G1014*D1014, 0)","v":0},null,{"$f":"TRUNC(I1014*D1014, 0)","v":0},0,0,null,"5021F1767248932698C2732AE4A444",null,null,"010143","T","F","F",{"$nulls":26},"0101435021F1767248932698C2732AE4A444",385]
["AL몰딩 설치","TZ형, 43*20*1.3mm","M",24,null,{"$f":"TRUNC(E1015*D1015, 0)","v":0},null,{"$f":"TRUNC(G1015*D1015, 0)","v":0},null,{"$f":"TRUNC(I1015*D1015, 0)","v":0},0,0,null,"5021F176D4F3C3459B97FD0E341C19",null,null,"010143","T","F","F",{"$nulls":26},"0101435021F176D4F3C3459B97FD0E341C19",386]
{"$rows_empty":19}
["[ 합           계 ]",{"$nulls":4},{"$f":"SUM(F1013:F1034)","v":0},null,{"$f":"SUM(H1013:H1034)","v":0},null,{"$f":"SUM(J1013:J1034)","v":0},null,{"$f":"SUM(L1013:L1034)","v":0},null,"TOTAL"]
["010144  서버실 벽체공사","■건축공사",{"$nulls":14},"010144"]
["케이싱비드","아연도, 높이 12.7mm","M",8,null,{"$f":"TRUNC(E1037*D1037, 0)","v":0},null,{"$f":"TRUNC(G1037*D1037, 0)","v":0},null,{"$f":"TRUNC(I1037*D1037, 0)","v":0},{"$f":"TRUNC(E1037+G1037+I1037, 0)","v":0},0,null,"5021717A4CC6F31C99304A37A478C7",null,null,"010144","T","F","F",{"$nulls":26},"0101445021717A4CC6F31C99304A37A478C7",388]
["실리콘코킹","20*20, 조인트용","M",8,null,0,null,0,null,0,0,0,null,"5021817935F083CE9E1057C0C43103",null,null,"010144","T","F","F",{"$nulls":26},"0101445021817935F083CE9E1057C0C43103",389]
["지정마감","벽, PT-01, A HA331","M2",23,null,0,null,0,null,0,0,0,null,"5021E177D16E331F996D280C64B29D",null,null,"010144","T","F","F",{"$nulls":26},"0101445021E177D16E331F996D280C64B29D",390]
["석고보드면 바탕만들기","줄퍼티 노무비","M2",23,null,0,null,0,null,0,0,0,null,"5021E176D8A063E894E1EE452465A0",null,null,"010144","T","F","F",{"$nulls":26},"0101445021E176D8A063E894E1EE452465A0",391]
["지정마감","PT-02, HEXACHROME BLACK U, H=60, MDF 6T 포함","M",8,null,0,null,0,null,0,0,0,null,"5021F176572B63D39AD79088441209",null,null,"010144","T","F","F",{"$nulls":26},"0101445021F176572B63D39AD79088441209",392]
["석고판 나사 고정(치장용)","벽, 석고보드(일반), 12.5T*2겹","M2",23,null,0,null,0,null,0,0,0,null,"5021F1767274134898A0CC60B44A0F",null,null,"010144","T","F","F",{"$nulls":26},"0101445021F1767274134898A0CC60B44A0F",393]
{"$rows_empty":16}
["[ 합           계 ]",{"$nulls":4},{"$f":"SUM(F1037:F1058)","v":0},null,{"$f":"SUM(H1037:H1058)","v":0},null,{"$f":"SUM(J1037:J1058)","v":0},null,{"$f":"SUM(L1037:L1058)","v":0},null,"TOTAL"]
["010145  서버실 천장공사","■건축공사",{"$nulls":14},"010145"]
["경량철골천정틀-300mm(BAR 간격)","T-BAR, H:1m미만, 기존슬라브용","M2",5,null,{"$f":"TRUNC(E1061*D1061, 0)","v":0},null,{"$f":"TRUNC(G1061*D1061, 0)","v":0},null,{"$f":"TRUNC(I1061*D1061, 0)","v":0},{"$f":"TRUNC(E1061+G1061+I1061, 0)","v":0},0,null,"5021A17EA6DCB36F97EA48C5748FB9",null,null,"010145","T","F","F",{"$nulls":26},"0101455021A17EA6DCB36F97EA48C5748FB9",395]
["지정마감","TEX-01, 603*603*15t","M2",5,null,{"$f":"TRUNC(E1062*D1062, 0)","v":0},null,{"$f":"TRUNC(G1062*D1062, 0)","v":0},null,{"$f":"TRUNC(I1062*D1062, 0)","v":0},0,0,null,"5021F1767248932698C2732AE4A444",null,null,"010145","T","F","F",{"$nulls":26},"0101455021F1767248932698C2732AE4A444",396]
["AL몰딩 설치","TZ형, 43*20*1.3mm","M",9,null,{"$f":"TRUNC(E1063*D1063, 0)","v":0},null,{"$f":"TRUNC(G1063*D1063, 0)","v":0},null,{"$f":"TRUNC(I1063*D1063, 0)","v":0},0,0,null,"5021F176D4F3C3459B97FD0E341C19",null,null,"010145","T","F","F",{"$nulls":26},"0101455021F176D4F3C3459B97FD0E341C19",397]
{"$rows_empty":19}
["[ 합           계 ]",{"$nulls":4},{"$f":"SUM(F1061:F1082)","v":0},null,{"$f":"SUM(H1061:H1082)","v":0},null,{"$f":"SUM(J1061:J1082)","v":0},null,{"$f":"SUM(L1061:L1082)","v":0},null,"TOTAL"]
["010146  서고 바닥공사","■건축공사",{"$nulls":14},"010146"]
["악세스후로아(마감재별도)","스틸판넬 600*600","M2",39,null,{"$f":"TRUNC(E1085*D1085, 0)","v":0},null,{"$f":"TRUNC(G1085*D1085, 0)","v":0},null,{"$f":"TRUNC(I1085*D1085, 0)","v":0},{"$f":"TRUNC(E1085+G1085+I1085, 0)","v":0},{"$f":"TRUNC(F1085+H1085+J1085, 0)","v":0},null,"5704617EE0EF432496E0A9397483C61F0CB07C",null,null,"010146","F","F","T",{"$nulls":26},"0101465704617EE0EF432496E0A9397483C61F0CB07C",460]
{"$rows_empty":21}
["[ 합           계 ]",{"$nulls":4},{"$f":"SUM(F1085:F1106)","v":0},null,{"$f":"SUM(H1085:H1106)","v":0},null,{"$f":"SUM(J1085:J1106)","v":0},null,{"$f":"SUM(L1085:L1106)","v":0},null,"TOTAL"]
["010147  서고 벽체공사","■건축공사",{"$nulls":14},"010147"]
["케이싱비드","아연도, 높이 12.7mm","M",17,null,{"$f":"TRUNC(E1109*D1109, 0)","v":0},null,{"$f":"TRUNC(G1109*D1109, 0)","v":0},null,{"$f":"TRUNC(I1109*D1109, 0)","v":0},{"$f":"TRUNC(E1109+G1109+I1109, 0)","v":0},{"$f":"TRUNC(F1109+H1109+J1109, 0)","v":0},null,"5021717A4CC6F31C99304A37A478C7",null,null,"010147","T","F","F",{"$nulls":26},"0101475021717A4CC6F31C99304A37A478C7",399]
["실리콘코킹","20*20, 조인트용","M",17,null,0,null,0,null,0,0,0,null,"5021817935F083CE9E1057C0C43103",null,null,"010147","T","F","F",{"$nulls":26},"0101475021817935F083CE9E1057C0C43103",400]
["벽체틀 설치","30*30, @450*600","M2",16,null,0,null,0,null,0,0,0,null,"5021917FE93583169E4E6534A472C9",null,null,"010147","T","F","F",{"$nulls":26},"0101475021917FE93583169E4E6534A472C9",401]
["지정마감","벽, PT-01, A HA331","M2",64,null,0,null,0,null,0,0,0,null,"5021E177D16E331F996D280C64B29D",null,null,"010147","T","F","F",{"$nulls":26},"0101475021E177D16E331F996D280C64B29D",402]
["콘크리트·모르타르면 바탕만들기","노무비","M2",13,null,0,null,0,null,0,0,0,null,"5021E176D8A063E894E1F8D8A48B80",null,null,"010147","T","F","F",{"$nulls":26},"0101475021E176D8A063E894E1F8D8A48B80",403]
["석고보드면 바탕만들기","줄퍼티 노무비","M2",52,null,0,null,0,null,0,0,0,null,"5021E176D8A063E894E1EE452465A0",null,null,"010147","T","F","F",{"$nulls":26},"0101475021E176D8A063E894E1EE452465A0",404]
["지정마감","PT-02, HEXACHROME BLACK U, H=60, MDF 6T 포함","M",17,null,0,null,0,null,0,0,0,null,"5021F176572B63D39AD79088441209",null,null,"010147","T","F","F",{"$nulls":26},"0101475021F176572B63D39AD79088441209",405]
["지정마감","SH-02, RS71","M2",5,null,0,null,0,null,0,0,0,null,"5021F176572B63DB9E338FB564E459",null,null,"010147","T","F","F",{"$nulls":26},"0101475021F176572B63DB9E338FB564E459",406]
["석고판 나사 고정(치장용)","벽, 석고보드(일반), 12.5T*2겹","M2",52,null,0,null,0,null,0,0,0,null,"5021F1767274134898A0CC60B44A0F",null,null,"010147","T","F","F",{"$nulls":26},"0101475021F1767274134898A0CC60B44A0F",407]
{"$rows_empty":13}
["[ 합           계 ]",{"$nulls":4},{"$f":"SUM(F1109:F1130)","v":0},null,{"$f":"SUM(H1109:H1130)","v":0},null,{"$f":"SUM(J1109:J1130)","v":0},null,{"$f":"SUM(L1109:L1130)","v":0},null,"TOTAL"]
["010148  서고 천장공사","■건축공사",{"$nulls":14},"010148"]
["경량철골천정틀-300mm(BAR 간격)","T-BAR, H:1m미만, 기존슬라브용","M2",39,null,{"$f":"TRUNC(E1133*D1133, 0)","v":0},null,{"$f":"TRUNC(G1133*D1133, 0)","v":0},null,{"$f":"TRUNC(I1133*D1133, 0)","v":0},{"$f":"TRUNC(E1133+G1133+I1133, 0)","v":0},0,null,"5021A17EA6DCB36F97EA48C5748FB9",null,null,"010148","T","F","F",{"$nulls":26},"0101485021A17EA6DCB36F97EA48C5748FB9",409]
["지정마감","TEX-01, 603*603*15t","M2",39,null,{"$f":"TRUNC(E1134*D1134, 0)","v":0},null,{"$f":"TRUNC(G1134*D1134, 0)","v":0},null,{"$f":"TRUNC(I1134*D1134, 0)","v":0},0,0,null,"5021F1767248932698C2732AE4A444",null,null,"010148","T","F","F",{"$nulls":26},"0101485021F1767248932698C2732AE4A444",410]
["철재커텐박스(ㄷ자형)","200*200*1.2t, STL(도장 유)","M",1,null,{"$f":"TRUNC(E1135*D1135, 0)","v":0},null,{"$f":"TRUNC(G1135*D1135, 0)","v":0},null,{"$f":"TRUNC(I1135*D1135, 0)","v":0},0,0,null,"5021F176CA6873159D67FB50841803",null,null,"010148","T","F","F",{"$nulls":26},"0101485021F176CA6873159D67FB50841803",411]
["AL몰딩 설치","TZ형, 43*20*1.3mm","M",26,null,{"$f":"TRUNC(E1136*D1136, 0)","v":0},null,{"$f":"TRUNC(G1136*D1136, 0)","v":0},null,{"$f":"TRUNC(I1136*D1136, 0)","v":0},0,0,null,"5021F176D4F3C3459B97FD0E341C19",null,null,"010148","T","F","F",{"$nulls":26},"0101485021F176D4F3C3459B97FD0E341C19",412]
{"$rows_empty":18}
["[ 합           계 ]",{"$nulls":4},{"$f":"SUM(F1133:F1154)","v":0},null,{"$f":"SUM(H1133:H1154)","v":0},null,{"$f":"SUM(J1133:J1154)","v":0},null,{"$f":"SUM(L1133:L1154)","v":0},null,"TOTAL"]
["010149  철거공사","■건축공사",{"$nulls":14},"010149"]
["악세스후로아철거",null,"M2",36,null,{"$f":"TRUNC(E1157*D1157, 0)","v":0},null,{"$f":"TRUNC(G1157*D1157, 0)","v":0},null,{"$f":"TRUNC(I1157*D1157, 0)","v":0},{"$f":"TRUNC(E1157+G1157+I1157, 0)","v":0},{"$f":"TRUNC(F1157+H1157+J1157, 0)","v":0},null,"5704617EE0EF432496E0A9397483C61F0A86DC",null,null,"010149","F","F","T",{"$nulls":26},"0101495704617EE0EF432496E0A9397483C61F0A86DC",414]
["이중바닥 설치","철거후재설치(기존재사용)","M2",17,null,0,null,0,null,0,0,0,null,"5021F1765735F309947000D424F148",null,null,"010149","T","F","F",{"$nulls":26},"0101495021F1765735F309947000D424F148",446]
["경량칸막이 철거","해체재 재사용 안 함","M2",11,null,0,null,0,null,0,0,0,null,"50201175B48A33A89A26BE1734521F",null,null,"010149","T","F","F",{"$nulls":26},"01014950201175B48A33A89A26BE1734521F",416]
["경량천장철골틀 해체",null,"M2",455,null,0,null,0,null,0,0,0,null,"50201175B417232C9463471174532C",null,null,"010149","T","F","F",{"$nulls":26},"01014950201175B417232C9463471174532C",447]
["창호철거(인력)",null,"M2",5,null,0,null,0,null,0,0,0,null,"50201175B48A33A89A1448B2C4AEE6",null,null,"010149","T","F","F",{"$nulls":26},"01014950201175B48A33A89A1448B2C4AEE6",418]
["흡음텍스 해체","15t","M2",459,null,0,null,0,null,0,0,0,null,"50201175B417232C9463518814636D",null,null,"010149","T","F","F",{"$nulls":26},"01014950201175B417232C9463518814636D",420]
["석고보드철거","천장","M2",1,null,0,null,0,null,0,0,0,null,"50201175B417232C9463518814636E",null,null,"010149","T","F","F",{"$nulls":26},"01014950201175B417232C9463518814636E",455]
["PVC계바닥재 해체",null,"M2",382,null,0,null,0,null,0,0,0,null,"50201175B417232C9463F1CD540CB7",null,null,"010149","T","F","F",{"$nulls":26},"01014950201175B417232C9463F1CD540CB7",421]
["폐기물소운반","인력소운반 L=30M","TON",13,null,0,null,0,null,0,0,0,null,"50212172F8AD83E593C14D8724FE72",null,null,"010149","F","T","F",{"$nulls":26},"01014950212172F8AD83E593C14D8724FE72",458]
["건설폐기물상차비","15ton 덤프트럭","TON",13,null,0,null,0,null,0,0,0,null,"5021117C249C8389910D405BB420E8",null,null,"010149","T","F","F",{"$nulls":26},"0101495021117C249C8389910D405BB420E8",453]
["철강설","철강설, 고철, 작업설부산물","kg",-901,null,0,null,0,null,0,0,0,null,"5727517F0FD39325903B061ED43A96A6EC18D3",null,null,"010149","F","F","T",{"$nulls":26},"0101495727517F0FD39325903B061ED43A96A6EC18D3",454]
{"$rows_empty":11}
["[ 합           계 ]",{"$nulls":4},{"$f":"SUM(F1157:F1178)","v":0},null,{"$f":"SUM(H1157:H1178)","v":0},null,{"$f":"SUM(J1157:J1178)","v":0},null,{"$f":"SUM(L1157:L1178)","v":0},null,"TOTAL"]
["010150  건설폐기물처리비","■건축공사",{"$nulls":14},"010150"]
["건설폐기물 -중간처리","혼합건설폐기물(폐유리,폐타일,폐자기+가연성 5%이하)","TON",1,null,{"$f":"TRUNC(E1181*D1181, 0)","v":0},null,{"$f":"TRUNC(G1181*D1181, 0)","v":0},null,{"$f":"TRUNC(I1181*D1181, 0)","v":0},{"$f":"TRUNC(E1181+G1181+I1181, 0)","v":0},0,null,"5021117C249C8389910D406E64A706",null,null,"010150","T","F","F",{"$nulls":26},"0101505021117C249C8389910D406E64A706",449]
["건설폐기물 -중간처리","혼합건설폐기물(폐보드,폐판넬+가연성 5%이하)","TON",9,null,{"$f":"TRUNC(E1182*D1182, 0)","v":0},null,{"$f":"TRUNC(G1182*D1182, 0)","v":0},null,{"$f":"TRUNC(I1182*D1182, 0)","v":0},0,0,null,"5021117C249C8389910D406E64A705",null,null,"010150","T","F","F",{"$nulls":26},"0101505021117C249C8389910D406E64A705",450]
["건설폐기물","폐합성수지","TON",3,null,{"$f":"TRUNC(E1183*D1183, 0)","v":0},null,{"$f":"TRUNC(G1183*D1183, 0)","v":0},null,{"$f":"TRUNC(I1183*D1183, 0)","v":0},0,0,null,"5021117C249C8389910D4078F4DFAB",null,null,"010150","T","F","F",{"$nulls":26},"0101505021117C249C8389910D4078F4DFAB",451]
["건설폐기물운반비","15ton 덤프트럭, 30km","TON",13,null,{"$f":"TRUNC(E1184*D1184, 0)","v":0},null,{"$f":"TRUNC(G1184*D1184, 0)","v":0},null,{"$f":"TRUNC(I1184*D1184, 0)","v":0},0,0,null,"5021117C249C8389910D405BB4218F",null,null,"010150","T","F","F",{"$nulls":26},"0101505021117C249C8389910D405BB4218F",452]
{"$rows_empty":18}
["[ 합           계 ]",{"$nulls":4},{"$f":"SUM(F1181:F1202)","v":0},null,{"$f":"SUM(H1181:H1202)","v":0},null,{"$f":"SUM(J1181:J1202)","v":0},null,{"$f":"SUM(L1181:L1202)","v":0},null,"TOTAL"]
["0102  ■기계설비공사",{"$nulls":15},"0102"]
["기계설비공사",null,"식",1,null,{"$f":"TRUNC(E1205*D1205, 0)","v":0},null,{"$f":"TRUNC(G1205*D1205, 0)","v":0},null,{"$f":"TRUNC(I1205*D1205, 0)","v":0},{"$f":"TRUNC(E1205+G1205+I1205, 0)","v":0},{"$f":"TRUNC(F1205+H1205+J1205, 0)","v":0},null,"5194A175057933E89DF2F759345C1962BF7F9A",null,null,"0102","F","F","T",{"$nulls":26},"01025194A175057933E89DF2F759345C1962BF7F9A",457]
{"$rows_empty":21}
["[ 합           계 ]",{"$nulls":4},{"$f":"SUM(F1205:F1226)","v":0},null,{"$f":"SUM(H1205:H1226)","v":0},null,{"$f":"SUM(J1205:J1226)","v":0},null,{"$f":"SUM(L1205:L1226)","v":0},null,"TOTAL"]