{"text_format":"5","workbook":"xlsx","n_sheets":3,"sheets":["원가","총괄표","내역서"],"props":{"creator":"이지테크","last_modified_by":"user","company":"이지테크"},"not_rendered":{"defined_names":5},"read":"whole","date_system":"1900"}

{"sheet":"원가","index":0,"n_rows":26,"n_cols":5,"rows_kept":26,"merged":[[0,0,0,4],[2,0,2,1],[2,2,2,3],[3,0,3,1],[4,0,19,0],[4,1,6,1],[7,1,9,1],[10,1,18,1],[19,1,19,2],[20,0,20,2],[21,0,21,2],[22,0,22,2],[23,0,23,2],[24,0,24,2],[25,0,25,2]]}
["원 가 계 산 서"]
[]
["공사명:",null,"주택금융공사 경기동부지사 신설공사"]
["비 목",null,"구  분","금 액","구  성  비"]
["순\n\n공\n\n사\n\n비","재 료 비","직 접 재 료 비"]
[null,null,"간 접 재 료 비"]
[null,null,"( 소      계 )"]
[null,"노 무 비","직 접 노 무 비"]
[null,null,"간 접 노 무 비",null,"(직접 노무비) *  %"]
[null,null,"( 소      계 )"]
[null,"경\n\n비","산 재 보 험 료",null,"(노무비) *  %"]
[null,null,"고 용 보 험 료",null,"(노무비) *  %"]
[null,null,"퇴 직 금 공 제",null,"(직접 노무비) *  %"]
[null,null,"안 전 관 리 비",null,"(재료+직노+관급재/1.1) *  %"]
[null,null,"기  타  경  비",null,"(재료+노무) *  %"]
[null,null,"건 강 보 험 료",null,"(직접 노무비) *  %"]
[null,null,"연 금 보 험 료",null,"(직접 노무비) *  %"]
[null,null,"노인장기요양보험",null,"(건강 보험료) *  %"]
[null,null,"( 소      계 )"]
[null,"( 순 공 사 비 계 )"]
["일 반 관 리 비",{"$nulls":3},"(재료+노무+경비) *  %"]
["이          윤",{"$nulls":3},"(노무+경비+일반관리비) *  %"]
["( 총  원  가 )"]
["부 가 가 치 세"]
["도 급 자 관 급"]
["( 총      계 )"]

{"sheet":"총괄표","index":1,"n_rows":107,"n_cols":27,"rows_kept":107,"merged":[[0,3,0,16],[1,0,2,0],[1,1,2,1],[1,2,2,2],[1,3,2,3],[1,4,2,4],[1,5,2,5],[1,6,2,6],[1,7,1,8],[1,9,1,11],[1,12,1,13],[1,15,2,15],[1,16,2,16],[3,3,3,16],[29,3,29,16],[55,3,55,16],[81,3,81,16]]}
["총줄수->","107",null,"[ 주택금융공사 경기동부지사 신설공사 ]",{"$nulls":22},"연속견적가로형식"]
["번호","공종코드","…","공   종   명","규격","단위","수량","재료비",null,"노무비",null,null,"경비",null,null,"계","비고"]
[{"$nulls":7},"단가","금액","수량","단가","금액","단가","금액","단가"]
[null,"공종줄",null,"주택금융공사 경기동부지사 신설공사"]
[null,"01",null,"1.전기공사",null,"식",1,{"$f":"총괄표!I81","v":0},{"$f":"G5*H5","v":0},null,{"$f":"총괄표!L81","v":0},{"$f":"G5*K5","v":0},{"$f":"총괄표!N81","v":0},{"$f":"G5*M5","v":0},{"$f":"IF((H5+K5+M5)=0, \"\", (H5+K5+M5))","v":""},{"$f":"SUM(I5,L5,N5)","v":0}]
{"$rows_empty":23}
[null,null,"Total","( 합       계 )",{"$nulls":4},{"$f":"TRUNC(SUM(I4:I28))","v":0},null,null,{"$f":"TRUNC(SUM(L4:L28))","v":0},null,{"$f":"TRUNC(SUM(N4:N28))","v":0},{"$f":"IF((H29+K29+M29)=0, \"\", (H29+K29+M29))","v":""},{"$f":"TRUNC(SUM(P4:P28))","v":0}]
[null,"공종줄",null,"주택금융공사 경기동부지사 신설공사"]
[null,"02",null,"2.도급자관급",null,"식",1,{"$f":"총괄표!I107","v":0},{"$f":"G31*H31","v":0},null,{"$f":"총괄표!L107","v":0},{"$f":"G31*K31","v":0},{"$f":"총괄표!N107","v":0},{"$f":"G31*M31","v":0},{"$f":"IF((H31+K31+M31)=0, \"\", (H31+K31+M31))","v":""},{"$f":"SUM(I31,L31,N31)","v":0}]
{"$rows_empty":23}
[null,null,"Total","( 합       계 )",{"$nulls":4},{"$f":"TRUNC(SUM(I30:I54))","v":0},null,null,{"$f":"TRUNC(SUM(L30:L54))","v":0},null,{"$f":"TRUNC(SUM(N30:N54))","v":0},{"$f":"IF((H55+K55+M55)=0, \"\", (H55+K55+M55))","v":""},{"$f":"TRUNC(SUM(P30:P54))","v":0}]
[null,"공종줄",null,"1.전기공사"]
[null,"0101",null,"1-1.전력간선설비공사",null,"식",1,{"$f":"내역서!I29","v":0},{"$f":"G57*H57","v":0},null,{"$f":"내역서!K29","v":0},{"$f":"G57*K57","v":0},{"$f":"내역서!M29","v":0},{"$f":"G57*M57","v":0},{"$f":"IF((H57+K57+M57)=0, \"\", (H57+K57+M57))","v":""},{"$f":"SUM(I57,L57,N57)","v":0}]
[null,"0102",null,"1-2.동력설비공사",null,"식",1,{"$f":"내역서!I55","v":0},0,null,{"$f":"내역서!K55","v":0},0,{"$f":"내역서!M55","v":0},0,null,0]
[null,"0103",null,"1-3.전열설비공사",null,"식",1,{"$f":"내역서!I81","v":0},0,null,{"$f":"내역서!K81","v":0},0,{"$f":"내역서!M81","v":0},0,null,0]
[null,"0104",null,"1-4.전등설비공사",null,"식",1,{"$f":"내역서!I133","v":0},0,null,{"$f":"내역서!K133","v":0},0,{"$f":"내역서!M133","v":0},0,null,0]
[null,"0105",null,"1-5.CABLE_TRAY설비공사",null,"식",1,{"$f":"내역서!I159","v":0},0,null,{"$f":"내역서!K159","v":0},0,{"$f":"내역서!M159","v":0},0,null,0]
[null,"0106",null,"1-6.방송설비공사",null,"식",1,{"$f":"내역서!I185","v":0},0,null,{"$f":"내역서!K185","v":0},0,{"$f":"내역서!M185","v":0},0,null,0]
{"$rows_empty":18}
[null,"01","Total","( 합       계 )",{"$nulls":4},{"$f":"TRUNC(SUM(I56:I80))","v":0},null,null,{"$f":"TRUNC(SUM(L56:L80))","v":0},null,{"$f":"TRUNC(SUM(N56:N80))","v":0},{"$f":"IF((H81+K81+M81)=0, \"\", (H81+K81+M81))","v":""},{"$f":"TRUNC(SUM(P56:P80))","v":0}]
[null,"공종줄",null,"2.도급자관급"]
[null,"0201",null,"2-1.분전반",null,"식",1,{"$f":"내역서!I211","v":0},{"$f":"G83*H83","v":0},null,{"$f":"내역서!K211","v":0},{"$f":"G83*K83","v":0},{"$f":"내역서!M211","v":0},{"$f":"G83*M83","v":0},{"$f":"IF((H83+K83+M83)=0, \"\", (H83+K83+M83))","v":""},{"$f":"SUM(I83,L83,N83)","v":0}]
{"$rows_empty":23}
[null,"02","Total","( 합       계 )",{"$nulls":4},{"$f":"TRUNC(SUM(I82:I106))","v":0},null,null,{"$f":"TRUNC(SUM(L82:L106))","v":0},null,{"$f":"TRUNC(SUM(N82:N106))","v":0},{"$f":"IF((H107+K107+M107)=0, \"\", (H107+K107+M107))","v":""},{"$f":"TRUNC(SUM(P82:P106))","v":0}]

{"sheet":"내역서","index":2,"n_rows":211,"n_cols":15,"rows_kept":211,"merged":[[0,3,0,12],[1,0,2,0],[1,1,2,1],[1,2,2,2],[1,3,2,3],[1,4,2,4],[1,5,2,5],[1,6,2,6],[1,7,1,8],[1,9,1,10],[1,11,1,12],[1,13,2,13],[1,14,2,14],[3,3,3,14],[29,3,29,14],[55,3,55,14],[81,3,81,14],[133,3,133,14],[159,3,159,14],[185,3,185,14]]}
["총줄수->","211",null,"[ 주택금융공사 경기동부지사 신설공사 ]"]
["번호","공종코드","코드","명   칭","규   격","단위","수량","재료비",null,"노무비",null,"경비",null,"계","비고"]
[{"$nulls":7},"단가","금액","단가","금액","단가","금액"]
[null,"공종줄",null,"1.전기공사::1-1.전력간선설비공사"]
["5975A337016","0101","EKA171000010S","강제전선관(노출)","아연도 54 mm","M",11,null,{"$f":"TRUNC(G5*H5)","v":0},null,{"$f":"TRUNC(G5*J5)","v":0},null,{"$f":"TRUNC(G5*L5)","v":0},{"$f":"SUM(I5,K5,M5)","v":0}]
["59759017064","0101","3913170820176478","강재전선관용 부품","노말밴드, 아연도 54 mm","개",3,null,0,null,0,null,0,0]
["MM300001806","0101","3913170810037056","강재전선관용 부품","새들 (KS) 54c","EA",7,null,0,null,0,null,0,0]
["E145A927205","0101","EOC355000010S","접지용비닐절연전선(F-GV)","16㎟","M",15,null,0,null,0,null,0,0]
["E145A287566","0101","ELD671000040S","폴리에틸렌 난연케이블","0.6/1kv F-CV 4C×25㎟","M",9,null,0,null,0,null,0,0]
["E145A287568","0101","ELD681000040S","폴리에틸렌 난연케이블","0.6/1kv F-CV 4C×35㎟","M",58,null,0,null,0,null,0,0]
["E940A267006","0101","EE9400267006","압착단자","R형동선 나압착 16 ㎟","개",4,null,0,null,0,null,0,0]
["E940A267007","0101","EE9400267007","압착단자","R형동선 나압착 25 ㎟","개",8,null,0,null,0,null,0,0]
["E940A267008","0101","EE9400267008","압착단자","R형동선 나압착 35 ㎟","개",8,null,0,null,0,null,0,0]
["56959000010","0101","E56959000010","MCCB","3P 125/100AT","EA",1,null,0,null,0,null,0,0]
["56959000011","0101","E56959000011","분전반","LN-6A","면",1,null,0,null,0,null,0,0]
["56959000012","0101","E56959000012","분전반","PN-6A","면",1,null,0,null,0,null,0,0]
["56959000007","0101","E56959000007","(철거)분전반)",null,"면",4,null,0,null,0,null,0,0]
{"$rows_empty":11}
[null,"합계줄",null,"( 합       계 )",{"$nulls":4},{"$f":"TRUNC(SUM(I4:I28))","v":0},null,{"$f":"TRUNC(SUM(K4:K28))","v":0},null,{"$f":"TRUNC(SUM(M4:M28))","v":0},{"$f":"TRUNC(SUM(N4:N28))","v":0}]
[null,"공종줄",null,"1.전기공사::1-2.동력설비공사"]
["5975A337011","0102","EKA121000010S","강제전선관(노출)","아연도 16 mm","M",366,null,{"$f":"TRUNC(G31*H31)","v":0},null,{"$f":"TRUNC(G31*J31)","v":0},null,{"$f":"TRUNC(G31*L31)","v":0},{"$f":"SUM(I31,K31,M31)","v":0}]
["5975A337013","0102","EKA141000010S","강제전선관(노출)","아연도 28 mm","M",37,null,0,null,0,null,0,0]
["5975A337015","0102","EKA161000010S","강제전선관(노출)","아연도 42 mm","M",111,null,0,null,0,null,0,0]
["5975D017003","0102","E59753017003","1종금속제가요전선관","16 mm 일반-비방수","M",60,null,0,null,0,null,0,0]
["59753017043","0102","3913170620174434","1종금속제가요전선관","커넥터, 16 mm 일반-비방수","개",80,null,0,null,0,null,0,0]
["59753017067","0102","3913170620174450","1종금속제가요전선관","커넥터, 42 mm 일반-방수","개",8,null,0,null,0,null,0,0]
["56959000001","0102","E56959000001","1종금속제가요전선관","42 mm 고장력-방수","M",8,null,0,null,0,null,0,0]
["59759017061","0102","3913170820176475","강재전선관용 부품","노말밴드, 아연도 28 mm","개",4,null,0,null,0,null,0,0]
["59759017063","0102","3913170820176477","강재전선관용 부품","노말밴드, 아연도 42 mm","개",12,null,0,null,0,null,0,0]
["5975D777102","0102","EKK231000011S","스위치박스","1 개용 54 mm","개",19,null,0,null,0,null,0,0]
["MM300003701","0102","3912130420175761","박스보강비","1 구용","개소",19,null,0,null,0,null,0,0]
["6145F137894","0102","E61455137894","정션 박스","100*100*50","EA",61,null,0,null,0,null,0,0]
["5975D857031","0102","E59753857031","풀박스","150×150×100","개",4,null,0,null,0,null,0,0]
["MM300001801","0102","3913170810037051","강재전선관용 부품","새들 (KS) 16c","EA",244,null,0,null,0,null,0,0]
["MM300001803","0102","3913170810037053","강재전선관용 부품","새들 (KS) 28c","EA",24,null,0,null,0,null,0,0]
["MM300001805","0102","3913170810037055","강재전선관용 부품","새들 (KS) 42c","EA",74,null,0,null,0,null,0,0]
["E145A667003","0102","ELG231000010S","450/750V 내열비닐절연전선","HFIX 2.25mm(4㎟)","M",707,null,0,null,0,null,0,0]
["E145A927202","0102","EOC325000020S","접지용비닐절연전선(F-GV)","4㎟","M",39,null,0,null,0,null,0,0]
["E145A927204","0102","EOC345000040S","접지용비닐절연전선(F-GV)","10㎟","M",127,null,0,null,0,null,0,0]
["E145A287522","0102","ELD631000020S","폴리에틸렌 난연케이블","0.6/1kv F-CV 2C×4㎟","M",39,null,0,null,0,null,0,0]
["E145A287564","0102","ELD651000040S","폴리에틸렌 난연케이블","0.6/1kv F-CV 4C×10㎟","M",127,null,0,null,0,null,0,0]
[]
[]
[]
[null,"합계줄",null,"( 합       계 )",{"$nulls":4},{"$f":"TRUNC(SUM(I30:I54))","v":0},null,{"$f":"TRUNC(SUM(K30:K54))","v":0},null,{"$f":"TRUNC(SUM(M30:M54))","v":0},{"$f":"TRUNC(SUM(N30:N54))","v":0}]
[null,"공종줄",null,"1.전기공사::1-3.전열설비공사"]
["5975A337001","0103","EKA124000010S","강제전선관","아연도 16 mm","M",238,null,{"$f":"TRUNC(G57*H57)","v":0},null,{"$f":"TRUNC(G57*J57)","v":0},null,{"$f":"TRUNC(G57*L57)","v":0},{"$f":"SUM(I57,K57,M57)","v":0}]
["5975A337002","0103","EKA134000010S","강제전선관","아연도 22 mm","M",50,null,0,null,0,null,0,0]
["5975A337003","0103","EKA144000010S","강제전선관","아연도 28 mm","M",81,null,0,null,0,null,0,0]
["5975A337011","0103","EKA121000010S","강제전선관(노출)","아연도 16 mm","M",28,null,0,null,0,null,0,0]
["59759017061","0103","3913170820176475","강재전선관용 부품","노말밴드, 아연도 28 mm","개",20,null,0,null,0,null,0,0]
["5975D777102","0103","EKK231000011S","스위치박스","1 개용 54 mm","개",4,null,0,null,0,null,0,0]
["5975D777111","0103","EKK231000020S","스위치박스","2 개용 54 mm","개",52,null,0,null,0,null,0,0]
["59753767321","0103","3912130820174722","아우트렛박스 커버","커버, 4각, 승압용","개",22,null,0,null,0,null,0,0]
["MM300003701","0103","3912130420175761","박스보강비","1 구용","개소",56,null,0,null,0,null,0,0]
["5935A067041","0103","E59350067041","시스템 박스","ACCESS FLOOR 용","개",42,null,0,null,0,null,0,0]
["6145F137894","0103","E61455137894","정션 박스","100*100*50","EA",1,null,0,null,0,null,0,0]
["MM300001801","0103","3913170810037051","강재전선관용 부품","새들 (KS) 16c","EA",18,null,0,null,0,null,0,0]
["E145A667003","0103","ELG231000010S","450/750V 내열비닐절연전선","HFIX 2.25mm(4㎟)","M",1748,null,0,null,0,null,0,0]
["E145A287539","0103","ELD631000030S","폴리에틸렌 난연케이블","0.6/1kv F-CV 3C×4㎟","M",512,null,0,null,0,null,0,0]
["5935A317224","0103","E59350317224","대기전력차단콘센트","매입형, 250V 3구","개",30,null,0,null,0,null,0,0]
["5935A317206","0103","E59350317206","콘센트","매입-접지형, 250V 2구","개",22,null,0,null,0,null,0,0]
["5935A317208","0103","E59350317208","방우콘센트","매입-접지형, 250V 2구","개",4,null,0,null,0,null,0,0]
{"$rows_empty":7}
[null,"합계줄",null,"( 합       계 )",{"$nulls":4},{"$f":"TRUNC(SUM(I56:I80))","v":0},null,{"$f":"TRUNC(SUM(K56:K80))","v":0},null,{"$f":"TRUNC(SUM(M56:M80))","v":0},{"$f":"TRUNC(SUM(N56:N80))","v":0}]
[null,"공종줄",null,"1.전기공사::1-4.전등설비공사"]
["5975A337011","0104","EKA121000010S","강제전선관(노출)","아연도 16 mm","M",534,null,{"$f":"TRUNC(G83*H83)","v":0},null,{"$f":"TRUNC(G83*J83)","v":0},null,{"$f":"TRUNC(G83*L83)","v":0},{"$f":"SUM(I83,K83,M83)","v":0}]
["5975A337012","0104","EKA131000010S","강제전선관(노출)","아연도 22 mm","M",181,null,0,null,0,null,0,0]
["5975A337013","0104","EKA141000010S","강제전선관(노출)","아연도 28 mm","M",100,null,0,null,0,null,0,0]
["5975D017003","0104","E59753017003","1종금속제가요전선관","16 mm 일반-비방수","M",384,null,0,null,0,null,0,0]
["59753017043","0104","3913170620174434","1종금속제가요전선관","커넥터, 16 mm 일반-비방수","개",512,null,0,null,0,null,0,0]
["59759017061","0104","3913170820176475","강재전선관용 부품","노말밴드, 아연도 28 mm","개",3,null,0,null,0,null,0,0]
["5975D767011","0104","EKK211000010S","아우트렛박스","8각 54㎜","개",240,null,0,null,0,null,0,0]
["5975D767041","0104","EKK221000010S","아우트렛박스","중형4각 54㎜","개",16,null,0,null,0,null,0,0]
["5975D777102","0104","EKK231000011S","스위치박스","1 개용 54 mm","개",20,null,0,null,0,null,0,0]
["5975D777111","0104","EKK231000020S","스위치박스","2 개용 54 mm","개",5,null,0,null,0,null,0,0]
["59753767221","0104","3912130820174712","아우트렛박스 커버","커버, 8각, 둥근구멍(평)","개",240,null,0,null,0,null,0,0]
["59753767251","0104","3912130820174715","아우트렛박스 커버","커버, 4각, 둥근구멍(평)","개",16,null,0,null,0,null,0,0]
["MM300003701","0104","3912130420175761","박스보강비","1 구용","개소",25,null,0,null,0,null,0,0]
["6145F137894","0104","E61455137894","정션 박스","100*100*50","EA",30,null,0,null,0,null,0,0]
["MM300001801","0104","3913170810037051","강재전선관용 부품","새들 (KS) 16c","EA",357,null,0,null,0,null,0,0]
["MM300001802","0104","3913170810037052","강재전선관용 부품","새들 (KS) 22c","EA",121,null,0,null,0,null,0,0]
["MM300001803","0104","3913170810037053","강재전선관용 부품","새들 (KS) 28c","EA",67,null,0,null,0,null,0,0]
["56959000003","0104","E56959000003","450/750V 내열비닐절연전선","HFIX 1.78mm(2.5㎟)","M",3713,null,0,null,0,null,0,0]
["E145A287539","0104","ELD631000030S","폴리에틸렌 난연케이블","0.6/1kv F-CV 3C×4㎟","M",101,null,0,null,0,null,0,0]
["E145B017055","0104","ELG712000011S","소방용내열전선(F-FR-3)","코어형, 2C×1.5㎟","M",37,null,0,null,0,null,0,0]
["5930B517001","0104","EMK111000010S","매입스위치","250V 1로1구","개",7,null,0,null,0,null,0,0]
["5930B517002","0104","E59301517002","매입스위치","250V 1로2구","개",10,null,0,null,0,null,0,0]
["5930B517003","0104","E59301517003","매입스위치","250V 1로3구","개",3,null,0,null,0,null,0,0]
["5930B517004","0104","E59301517004","매입스위치","250V 1로4구","개",4,null,0,null,0,null,0,0]
["56959000005","0104","E56959000005","일괄소등 스위치","250V 16A","개",1,null,0,null,0,null,0,0]
["59400247002","0104","3912140920171333","와이어콘넥터","6 ㎟ x 2가닥","개",768,null,0,null,0,null,0,0]
["56959000004","0104","E56959000004","다운라이트 타공",null,"개소",202,null,0,null,0,null,0,0]
["56959000013","0104","E56959000013","조명기구 \"L1\"","D/L, LED 10W","개",83,null,0,null,0,null,0,0]
["56959000014","0104","E56959000014","조명기구 \"L1a\"","D/L, LED 10W","개",39,null,0,null,0,null,0,0]
["56959000015","0104","E56959000015","조명기구 \"L2\"","매입등, LED 40W","개",54,null,0,null,0,null,0,0]
["56959000016","0104","E56959000016","조명기구 \"L3\"","D/L, LED 6W","개",50,null,0,null,0,null,0,0]
["56959000017","0104","E56959000017","조명기구 \"L4\"","간접등(1200), LED 18W","개",30,null,0,null,0,null,0,0]
["56959000019","0104","E56959000019","조명기구 \"L4\"","간접등(900), LED 14W","개",2,null,0,null,0,null,0,0]
["56959000018","0104","E56959000018","조명기구 \"L4\"","간접등(600), LED 10W","개",2,null,0,null,0,null,0,0]
["56959000020","0104","E56959000020","조명기구 \"L5\"","멀티D/L, LED 13W*2","개",4,null,0,null,0,null,0,0]
["56959000021","0104","E56959000021","조명기구 \"L5a\"","멀티D/L, LED 13W*2","개",9,null,0,null,0,null,0,0]
["56959000022","0104","E56959000022","조명기구 \"LE1\"","D/L(비상), LED 10W","개",17,null,0,null,0,null,0,0]
["56959000008","0104","E56959000008","(철거)조명기구","P.P, LED","EA",64,null,0,null,0,null,0,0]
["56959000009","0104","E56959000009","(철거)조명기구","발코니등, LED","EA",4,null,0,null,0,null,0,0]
["56959000006","0104","E56959000006","(철거)단로스위치","5구","EA",4,null,0,null,0,null,0,0]
{"$rows_empty":10}
[null,"합계줄",null,"( 합       계 )",{"$nulls":4},{"$f":"TRUNC(SUM(I82:I132))","v":0},null,{"$f":"TRUNC(SUM(K82:K132))","v":0},null,{"$f":"TRUNC(SUM(M82:M132))","v":0},{"$f":"TRUNC(SUM(N82:N132))","v":0}]
[null,"공종줄",null,"1.전기공사::1-5.CABLE_TRAY설비공사"]
["5975B817211","0105","EKG110000011S","케이블트레이","STRAIGHT,St W200x100Hx2.3t","M",9,null,{"$f":"TRUNC(G135*H135)","v":0},null,{"$f":"TRUNC(G135*J135)","v":0},null,{"$f":"TRUNC(G135*L135)","v":0},{"$f":"SUM(I135,K135,M135)","v":0}]
["5975E967006","0105","E59754967006","케이블트레이부속품","H. ELBOW, St,W200x100Hx2.3t","개",2,null,0,null,0,null,0,0]
["5975E967106","0105","E59754967106","케이블트레이부속품","V. ELBOW, St,W200x100Hx2.3t","개",1,null,0,null,0,null,0,0]
["59754967501","0105","3913170520175118","케이블트레이부속품","JOINT CONNEC.아연도100Hx2.3","개",6,null,0,null,0,null,0,0]
["5975B817373","0105","E59751817373","Hi-Tec Tray(분체도장)","STRAIGHT, W300x60Hx1.2t","M",39,null,0,null,0,null,0,0]
["5975E968331","0105","E59754968331","Hi-Tec Tray부속(분체도장)","HOR. ELBOW, W300 x H60","개",2,null,0,null,0,null,0,0]
["5975E968367","0105","E59754968367","Hi-Tec Tray부속(분체도장)","VER. ELBOW, W300 x H60","개",1,null,0,null,0,null,0,0]
["59754968475","0105","3913170420938660","Hi-Tec Tray부속(분체도장)","JOINER SET, W300 x H60","개",24,null,0,null,0,null,0,0]
["59754967521","0105","3913170520175120","케이블트레이부속품","SHANK BOLT & NUT, 아연도","개",300,null,0,null,0,null,0,0]
["59754967561","0105","3913170520175124","케이블트레이부속품","BONDING JUMPER, 35㎟","개",30,null,0,null,0,null,0,0]
["59754967571","0105","3913170520175125","케이블트레이부속품","HOLD DOWN CLAMP, 아연도","개",60,null,0,null,0,null,0,0]
["59754967581","0105","3913170520175126","케이블트레이부속품","찬넬스프링 너트, 아연도","개",60,null,0,null,0,null,0,0]
["E145A927213","0105","EOC3B5000010S","접지용비닐절연전선(F-GV)","120㎟","M",9,null,0,null,0,null,0,0]
["56950160200","0105","EAA110420000","케이블트레이지지대","W200-1단","식",3,null,0,null,0,null,0,0]
["56950170113","0105","EAA110630000","EPS SUPPORT","W200-1단","식",2,null,0,null,0,null,0,0]
["56950170114","0105","EAA110640000","EPS SUPPORT","W300-1단","식",25,null,0,null,0,null,0,0]
["56931630022","0105","E56931630022","방화구획처리","W:200xH:100","식",2,null,0,null,0,null,0,0]
{"$rows_empty":7}
[null,"합계줄",null,"( 합       계 )",{"$nulls":4},{"$f":"TRUNC(SUM(I134:I158))","v":0},null,{"$f":"TRUNC(SUM(K134:K158))","v":0},null,{"$f":"TRUNC(SUM(M134:M158))","v":0},{"$f":"TRUNC(SUM(N134:N158))","v":0}]
[null,"공종줄",null,"1.전기공사::1-6.방송설비공사"]
["5975A337011","0106","EKA121000010S","강제전선관(노출)","아연도 16 mm","M",99,null,{"$f":"TRUNC(G161*H161)","v":0},null,{"$f":"TRUNC(G161*J161)","v":0},null,{"$f":"TRUNC(G161*L161)","v":0},{"$f":"SUM(I161,K161,M161)","v":0}]
["5975D017003","0106","E59753017003","1종금속제가요전선관","16 mm 일반-비방수","M",21,null,0,null,0,null,0,0]
["59753017043","0106","3913170620174434","1종금속제가요전선관","커넥터, 16 mm 일반-비방수","개",28,null,0,null,0,null,0,0]
["5975D767011","0106","EKK211000010S","아우트렛박스","8각 54㎜","개",14,null,0,null,0,null,0,0]
["59753767221","0106","3912130820174712","아우트렛박스 커버","커버, 8각, 둥근구멍(평)","개",14,null,0,null,0,null,0,0]
["6145F137894","0106","E61455137894","정션 박스","100*100*50","EA",1,null,0,null,0,null,0,0]
["MM300001801","0106","3913170810037051","강재전선관용 부품","새들 (KS) 16c","EA",65,null,0,null,0,null,0,0]
["56959000002","0106","E56959000002","450/750V 내열비닐절연전선","HFIX 1.38mm(1.5㎟)","M",247,null,0,null,0,null,0,0]
["5965A397012","0106","E59650397012","스 피 커","원형, 천정용(3W)","개",14,null,0,null,0,null,0,0]
{"$rows_empty":15}
[null,"합계줄",null,"( 합       계 )",{"$nulls":4},{"$f":"TRUNC(SUM(I160:I184))","v":0},null,{"$f":"TRUNC(SUM(K160:K184))","v":0},null,{"$f":"TRUNC(SUM(M160:M184))","v":0},{"$f":"TRUNC(SUM(N160:N184))","v":0}]
[null,"공종줄",null,"2.도급자관급::2-1.분전반"]
["MM911600161","0201","391115ZZ701Z0009","분전반","LN-6A","면",1,null,{"$f":"TRUNC(G187*H187)","v":0},null,{"$f":"TRUNC(G187*J187)","v":0},null,{"$f":"TRUNC(G187*L187)","v":0},{"$f":"SUM(I187,K187,M187)","v":0}]
["MM911600162","0201","391115ZZ701Z0010","분전반","PN-6A","면",1,null,{"$f":"TRUNC(G188*H188)","v":0},null,{"$f":"TRUNC(G188*J188)","v":0},null,{"$f":"TRUNC(G188*L188)","v":0},{"$f":"SUM(I188,K188,M188)","v":0}]
{"$rows_empty":22}
[null,"합계줄",null,"( 합       계 )",{"$nulls":4},{"$f":"TRUNC(SUM(I186:I210))","v":0},null,{"$f":"TRUNC(SUM(K186:K210))","v":0},null,{"$f":"TRUNC(SUM(M186:M210))","v":0},{"$f":"TRUNC(SUM(N186:N210))","v":0}]